BEGIN:VCALENDAR
VERSION:2.0
PRODID:-//Nelson Tasman Hospice - ECPv6.15.20//NONSGML v1.0//EN
CALSCALE:GREGORIAN
METHOD:PUBLISH
X-WR-CALNAME:Nelson Tasman Hospice
X-ORIGINAL-URL:https://www.nelsonhospice.org.nz
X-WR-CALDESC:Events for Nelson Tasman Hospice
REFRESH-INTERVAL;VALUE=DURATION:PT1H
X-Robots-Tag:noindex
X-PUBLISHED-TTL:PT1H
BEGIN:VTIMEZONE
TZID:Pacific/Auckland
BEGIN:STANDARD
TZOFFSETFROM:+1300
TZOFFSETTO:+1200
TZNAME:NZST
DTSTART:20240406T140000
END:STANDARD
BEGIN:DAYLIGHT
TZOFFSETFROM:+1200
TZOFFSETTO:+1300
TZNAME:NZDT
DTSTART:20240928T140000
END:DAYLIGHT
BEGIN:STANDARD
TZOFFSETFROM:+1300
TZOFFSETTO:+1200
TZNAME:NZST
DTSTART:20250405T140000
END:STANDARD
BEGIN:DAYLIGHT
TZOFFSETFROM:+1200
TZOFFSETTO:+1300
TZNAME:NZDT
DTSTART:20250927T140000
END:DAYLIGHT
BEGIN:STANDARD
TZOFFSETFROM:+1300
TZOFFSETTO:+1200
TZNAME:NZST
DTSTART:20260404T140000
END:STANDARD
BEGIN:DAYLIGHT
TZOFFSETFROM:+1200
TZOFFSETTO:+1300
TZNAME:NZDT
DTSTART:20260926T140000
END:DAYLIGHT
END:VTIMEZONE
BEGIN:VEVENT
DTSTART;TZID=Pacific/Auckland:20250711T090000
DTEND;TZID=Pacific/Auckland:20250711T123000
DTSTAMP:20260426T114225
CREATED:20250523T013918Z
LAST-MODIFIED:20250523T013918Z
UID:10001133-1752224400-1752237000@www.nelsonhospice.org.nz
SUMMARY:The Better Endings Project
DESCRIPTION:What is the Better Endings Project \nThe Better Endings Project is about educating the community on the basics of caring for people who are dying. This workshop is for the general public and is not designed for health professionals. \nWho is the course for? \nFor the general public who find themselves supporting and caring for people approaching end of life or those anticipating this situation. \nWhat does Nelson Tasman Hospice offer? \nThe facilitators will give practical tips on how you can provide comfort to someone who is dying\, and what you can do to plan for your own and your family’s future. It is an interactive course for up to 20 participants. \nParticipants will learn: \n\nWhat to expect when someone is dying\nHow compassionate communities can improve care of dying\nWhy end of life planning is important and what resources are available\nSimple measures to provide comfort at end of life\nAbout the sanctity of the last hours/days of life and how to cope and support others after deathDetails:\nWho can attend? General Public – This workshop is not designed for Health Professionals\nDate: Friday 11 July 2025\nTime: 0900 – 1230\nCost: Free to attend\nVenue: Nelson Tasman Hospice\, 331 Suffolk Road\, Stoke\, Nelson\n\nFor more information contact the Nelson Tasman Hospice Education Team \nE: education@nelsonhospice.org.nz \nT: (03) 546 3950
URL:https://www.nelsonhospice.org.nz/event/the-better-endings-project-2/
LOCATION:Nelson Tasman Hospice\, 331 Suffolk Road\, Nelson\, 7011\, New Zealand
CATEGORIES:Education
ATTACH;FMTTYPE=image/jpeg:https://www.nelsonhospice.org.nz/wp-content/uploads/sites/329/2025/05/Better-Endings-Project-Cover-NTH.jpg
ORGANIZER;CN="Nelson Tasman Hospice Education Team":MAILTO:education@nelsonhospice.org.nz
END:VEVENT
BEGIN:VEVENT
DTSTART;TZID=Pacific/Auckland:20250720T140000
DTEND;TZID=Pacific/Auckland:20250720T140000
DTSTAMP:20260426T114225
CREATED:20250702T235428Z
LAST-MODIFIED:20250702T235428Z
UID:10001135-1753020000-1753020000@www.nelsonhospice.org.nz
SUMMARY:The New Zealand Doctors’ Orchestra
DESCRIPTION:The orchestra\, made up of doctors and medical students from around New Zealand and conducted by Mark Hodgkinson\, will perform Tchaikovsky’s violin concerto\, with soloist Rachel Moxham\, Stravinsky’s Firebird Suite\, and Rimmer’s Cloud Fanfares. \nAll proceeds from ticket sales will be donated to the Nelson Tasman Hospice.
URL:https://www.nelsonhospice.org.nz/event/the-new-zealand-doctors-orchestra/
LOCATION:Nelson Centre of Musical Arts\, 48 Nile Street\, Nelson\, 7010\, New Zealand
ATTACH;FMTTYPE=image/jpeg:https://www.nelsonhospice.org.nz/wp-content/uploads/sites/329/2025/07/NZDO-2025-Tile.jpg
END:VEVENT
BEGIN:VEVENT
DTSTART;TZID=Pacific/Auckland:20250727T100000
DTEND;TZID=Pacific/Auckland:20250727T140000
DTSTAMP:20260426T114225
CREATED:20250703T000329Z
LAST-MODIFIED:20250703T000329Z
UID:10001136-1753610400-1753624800@www.nelsonhospice.org.nz
SUMMARY:Henry Ford's Birthday
DESCRIPTION:Save the date for the Celebration of Henry Ford’s Birthday. \nA great family Ford inspired day. \nEntrance off Parkers Road. Entry fee – Gold coin. \nFundraising for Nelson Tasman Hospice.
URL:https://www.nelsonhospice.org.nz/event/henry-fords-birthday/
LOCATION:Tahuna Beach Holiday Park\, 70 Beach Road\, Nelson\, 7011\, New Zealand
ATTACH;FMTTYPE=image/png:https://www.nelsonhospice.org.nz/wp-content/uploads/sites/329/2025/07/HF-Day-2025.png
END:VEVENT
END:VCALENDAR