BEGIN:VCALENDAR
VERSION:2.0
PRODID:-//Nelson Tasman Hospice - ECPv6.15.20//NONSGML v1.0//EN
CALSCALE:GREGORIAN
METHOD:PUBLISH
X-WR-CALNAME:Nelson Tasman Hospice
X-ORIGINAL-URL:https://www.nelsonhospice.org.nz
X-WR-CALDESC:Events for Nelson Tasman Hospice
REFRESH-INTERVAL;VALUE=DURATION:PT1H
X-Robots-Tag:noindex
X-PUBLISHED-TTL:PT1H
BEGIN:VTIMEZONE
TZID:Pacific/Auckland
BEGIN:STANDARD
TZOFFSETFROM:+1300
TZOFFSETTO:+1200
TZNAME:NZST
DTSTART:20250405T140000
END:STANDARD
BEGIN:DAYLIGHT
TZOFFSETFROM:+1200
TZOFFSETTO:+1300
TZNAME:NZDT
DTSTART:20250927T140000
END:DAYLIGHT
BEGIN:STANDARD
TZOFFSETFROM:+1300
TZOFFSETTO:+1200
TZNAME:NZST
DTSTART:20260404T140000
END:STANDARD
BEGIN:DAYLIGHT
TZOFFSETFROM:+1200
TZOFFSETTO:+1300
TZNAME:NZDT
DTSTART:20260926T140000
END:DAYLIGHT
BEGIN:STANDARD
TZOFFSETFROM:+1300
TZOFFSETTO:+1200
TZNAME:NZST
DTSTART:20270403T140000
END:STANDARD
BEGIN:DAYLIGHT
TZOFFSETFROM:+1200
TZOFFSETTO:+1300
TZNAME:NZDT
DTSTART:20270925T140000
END:DAYLIGHT
END:VTIMEZONE
BEGIN:VEVENT
DTSTART;TZID=Pacific/Auckland:20260512T190000
DTEND;TZID=Pacific/Auckland:20260512T220000
DTSTAMP:20260424T223220
CREATED:20260324T010201Z
LAST-MODIFIED:20260324T025020Z
UID:10001181-1778612400-1778623200@www.nelsonhospice.org.nz
SUMMARY:Bingo Night - Sprig + Fern Milton Street
DESCRIPTION:[vc_row][vc_column][vc_column_text css=””]\nTuesday bingo nights at Sprig + Fern Milton Street\, fundraising for Nelson Tasman Hospice!\n\nCome along – starts at 7pm\n12th & 26th May 2026\n\nBingo is $5 per sheet (participants can buy multiple sheets per round)\nBookings recommended – contact Team Hospice\nLots of great raffle prizes!\n[/vc_column_text][/vc_column][/vc_row]
URL:https://www.nelsonhospice.org.nz/event/bingo-night-sprig-fern-milton-street/2026-05-12/
LOCATION:Sprig + Fern Milton Street\, 134 Milton Street\, Nelson\, The Wood\, 7010
CATEGORIES:Fundraising
ATTACH;FMTTYPE=image/png:https://www.nelsonhospice.org.nz/wp-content/uploads/sites/329/2026/03/Sprig-Milton-Bingo.png
END:VEVENT
BEGIN:VEVENT
DTSTART;TZID=Pacific/Auckland:20260513T130000
DTEND;TZID=Pacific/Auckland:20260513T163000
DTSTAMP:20260424T223220
CREATED:20251114T015456Z
LAST-MODIFIED:20260423T043806Z
UID:10001148-1778677200-1778689800@www.nelsonhospice.org.nz
SUMMARY:General Public Workshop: Dying to Know about Dying Matters Wednesday 13 May 2026
DESCRIPTION:Please note\, this is a FREE workshop available to the public and is not designed for health professionals to attend. \nMany people find it difficult to talk about dying\, yet dying is an important stage of life and is inevitable. \nWe plan for the birth of a child\, yet when it comes to the end of life\, we don’t often want to think\, or talk about it. \nCome along to our workshop and find out more about dying matters\, how an Advance Care Planning (ACP)can benefit you and your family/whānau and what to expect at the end of life. \nHaving a plan outlines our care preferences for the future. Having an Advance Care Plan (ACP) that aligns with our beliefs and values\, is a gift that we can give to our family / whānau. \nWe will explore: \nWhy is it hard to talk about death and dying? \nWhat to expect when someone is dying \nSupports available \nAdvance care planning processes \n\nDate: Wednesday 13 May 2026\nTime: 1pm – 4.30 pm\nPresenters: Mary Ann Hardcastle Advance Care Planning Facilitator & Chris Dunn Clinical Nurse Educator Nelson Tasman Hospice\nCost: Free\nRegistration is essential. Click on this link to register\nWho can attend?: General Public (This workshop is not designed for Health Professionals)\nVenue: Nelson Tasman Hospice\, 331 Suffolk Road\, Stoke\, Nelson
URL:https://www.nelsonhospice.org.nz/event/general-public-workshop-dying-to-know-about-dying-matters/
LOCATION:Nelson Tasman Hospice\, 331 Suffolk Road\, Nelson\, 7011\, New Zealand
CATEGORIES:Education,Fundraising
ATTACH;FMTTYPE=image/jpeg:https://www.nelsonhospice.org.nz/wp-content/uploads/sites/329/2025/05/Dying-matters-NTH.jpg
ORGANIZER;CN="Nelson Tasman Hospice Education Team":MAILTO:education@nelsonhospice.org.nz
END:VEVENT
BEGIN:VEVENT
DTSTART;TZID=Pacific/Auckland:20260513T193000
DTEND;TZID=Pacific/Auckland:20260513T220000
DTSTAMP:20260424T223220
CREATED:20260219T015239Z
LAST-MODIFIED:20260415T212601Z
UID:10001176-1778700600-1778709600@www.nelsonhospice.org.nz
SUMMARY:Quiz Night - Sprig + Fern Mapua
DESCRIPTION:Wednesday night pub quiz at Sprig + Fern Mapua\, fundraising for Nelson Tasman Hospice!\n\nCome along – starts at 7:30pm\n13th May 2026\n\nQuiz entry is $5 per person\n\nBookings recommended – contact Sprig + Fern Mapua\nLots of great raffle prizes!
URL:https://www.nelsonhospice.org.nz/event/quiz-night-sprig-fern-mapua/
LOCATION:Sprig + Fern Mapua\, 67 Aranui Road\, Mapua\, Tasman\, 7005\, New Zealand
CATEGORIES:Fundraising
ATTACH;FMTTYPE=image/png:https://www.nelsonhospice.org.nz/wp-content/uploads/sites/329/2026/02/Sprig-Mapua-Quiz.png
END:VEVENT
BEGIN:VEVENT
DTSTART;TZID=Pacific/Auckland:20260514T190000
DTEND;TZID=Pacific/Auckland:20260514T220000
DTSTAMP:20260424T223220
CREATED:20260324T012353Z
LAST-MODIFIED:20260415T213344Z
UID:10001183-1778785200-1778796000@www.nelsonhospice.org.nz
SUMMARY:Quiz Night - Sprig + Fern Tahuna
DESCRIPTION:[vc_row][vc_column][vc_column_text css=””]\nThursday night pub quiz at Sprig + Fern Tahuna\, fundraising for Nelson Tasman Hospice!\n\nCome along – starts at 7pm\n14th May 2026\n\nQuiz entry is $5 per person\n\nBookings recommended – contact Sprig + Fern Tahuna\nLots of great raffle prizes!\n[/vc_column_text][/vc_column][/vc_row]
URL:https://www.nelsonhospice.org.nz/event/quiz-night-sprig-fern-tahuna/
LOCATION:Sprig + Fern Tahuna\, 13 Beach Road\, Tahunanui\, Nelson\, 7011\, New Zealand
ATTACH;FMTTYPE=image/png:https://www.nelsonhospice.org.nz/wp-content/uploads/sites/329/2026/03/Sprig-Tahuna-Quiz.png
END:VEVENT
BEGIN:VEVENT
DTSTART;TZID=Pacific/Auckland:20260516T100000
DTEND;TZID=Pacific/Auckland:20260516T130000
DTSTAMP:20260424T223220
CREATED:20260324T014800Z
LAST-MODIFIED:20260324T014800Z
UID:10001184-1778925600-1778936400@www.nelsonhospice.org.nz
SUMMARY:Fabric-a-brac Nelson
DESCRIPTION:[vc_row][vc_column][vc_column_text css=””]\n\n10am-1pm Sat 16th May\nHope Hall (184 Main Road Hope)\nFree entry\, Koha welcomed.\n\nCome along to discover vintage and modern fabric treasures\, haberdashery\, patterns\, buttons and sewing supplies at Fabric-a-brac Nelson\, all to support Nelson Tasman Hospice.\n\nTake a break and sit down with a cuppa and something delicious from our selection of yummy sweet and savoury treats from our pop-up cafe.\n\nAll proceeds from donated fabrics\, stallholder fees and the pop-up cafe go to Nelson Tasman Hospice.\n\nIf you’d like to have a stall to sell your stash\, email – fbbnelson@gmail.com\n\n[/vc_column_text][/vc_column][/vc_row]
URL:https://www.nelsonhospice.org.nz/event/fabric-a-brac-nelson-2026/
LOCATION:Hope Hall\, 184 Main Road\, Hope\, 184 Main Road\, Hope\, Nelson\, New Zealand
CATEGORIES:Fundraising
ATTACH;FMTTYPE=image/png:https://www.nelsonhospice.org.nz/wp-content/uploads/sites/329/2026/03/Fabric-a-brac-26-Raisely.png
END:VEVENT
BEGIN:VEVENT
DTSTART;TZID=Pacific/Auckland:20260519T190000
DTEND;TZID=Pacific/Auckland:20260519T220000
DTSTAMP:20260424T223220
CREATED:20260219T012445Z
LAST-MODIFIED:20260325T000047Z
UID:10001173-1779217200-1779228000@www.nelsonhospice.org.nz
SUMMARY:Quiz Nights - Sprig + Fern Upper Queen
DESCRIPTION:Tuesday nights pub quiz at Sprig + Fern Upper Queen\, fundraising for Nelson Tasman Hospice!\n\nCome along – starts at 7pm\n5th & 19th May 2026\n\nQuiz entry is $5 per person\nMax. 8 people per team\nBookings recommended – contact Team Hospice\nLots of great raffle prizes!
URL:https://www.nelsonhospice.org.nz/event/quiz-nights-sprig-fern-upper-queen/2026-05-19/
LOCATION:Sprig and Fern Upper Queen\, 126 Queen Street\, Richmond\, Tasman\, 7020\, New Zealand
CATEGORIES:Fundraising
ATTACH;FMTTYPE=image/png:https://www.nelsonhospice.org.nz/wp-content/uploads/sites/329/2026/02/Sprig-Queen-Quiz.png
END:VEVENT
BEGIN:VEVENT
DTSTART;TZID=Pacific/Auckland:20260519T190000
DTEND;TZID=Pacific/Auckland:20260519T220000
DTSTAMP:20260424T223220
CREATED:20260323T232230Z
LAST-MODIFIED:20260324T025326Z
UID:10001185-1779217200-1779228000@www.nelsonhospice.org.nz
SUMMARY:Quiz Night - Sprig + Fern Milton Street
DESCRIPTION:[vc_row][vc_column][vc_column_text css=””]\nTuesday nights pub quiz at Sprig + Fern Milton Street\, fundraising for Nelson Tasman Hospice!\n\nCome along – starts at 7pm\n19th + 5th May 2026\n\nQuiz entry is $5 per person\n\nBookings recommended – contact fundraising@nelsonhospice.org.nz\nLots of great raffle prizes!\n[/vc_column_text][/vc_column][/vc_row]
URL:https://www.nelsonhospice.org.nz/event/quiz-night-sprig-fern-milton-street/2026-05-19/
LOCATION:Sprig + Fern Milton St\, 134 Milton Street\, Nelson\, The Wood\, 7010\, New Zealand
CATEGORIES:Fundraising
ATTACH;FMTTYPE=image/png:https://www.nelsonhospice.org.nz/wp-content/uploads/sites/329/2026/03/Sprig-Milton-Quiz.png
END:VEVENT
BEGIN:VEVENT
DTSTART;TZID=Pacific/Auckland:20260519T190000
DTEND;TZID=Pacific/Auckland:20260519T220000
DTSTAMP:20260424T223220
CREATED:20260324T015708Z
LAST-MODIFIED:20260415T215639Z
UID:10001186-1779217200-1779228000@www.nelsonhospice.org.nz
SUMMARY:Quiz Night - Sprig + Fern Motueka
DESCRIPTION:[vc_row][vc_column][vc_column_text css=””]\nTuesday night pub quiz at Sprig + Fern Motueka\, fundraising for Nelson Tasman Hospice!\n\nCome along – starts at 7pm\n19th May 2026\n\nQuiz entry is $5 per person\n\nBookings recommended – contact Sprig + Fern Motueka\nLots of great raffle prizes!\n[/vc_column_text][/vc_column][/vc_row]
URL:https://www.nelsonhospice.org.nz/event/quiz-night-sprig-fern-motueka/
LOCATION:Sprig + Fern Motueka\, Hart Lane\, Motueka\, 7120\, New Zealand
CATEGORIES:Fundraising
ATTACH;FMTTYPE=image/png:https://www.nelsonhospice.org.nz/wp-content/uploads/sites/329/2026/03/Sprig-Motueka-Quiz.png
END:VEVENT
BEGIN:VEVENT
DTSTART;TZID=Pacific/Auckland:20260520T190000
DTEND;TZID=Pacific/Auckland:20260520T220000
DTSTAMP:20260424T223220
CREATED:20260324T021746Z
LAST-MODIFIED:20260415T220424Z
UID:10001187-1779303600-1779314400@www.nelsonhospice.org.nz
SUMMARY:Quiz Night - Sprig + Fern Brightwater
DESCRIPTION:[vc_row][vc_column][vc_column_text css=””]\nWednesday night pub quiz at Sprig + Fern Brightwater\, fundraising for Nelson Tasman Hospice!\n\nCome along – starts at 7pm\n20th May 2026\n\nQuiz entry is $5 per person\n\nBookings recommended – contact Sprig + Fern Brightwater\nLots of great raffle prizes!\n[/vc_column_text][/vc_column][/vc_row]
URL:https://www.nelsonhospice.org.nz/event/quiz-night-sprig-fern-brightwater/
LOCATION:Sprig + Fern Brightwater\, 54 Ellis Street\, Brightwater\, Nelson\, 7022\, New Zealand
CATEGORIES:Fundraising
ATTACH;FMTTYPE=image/png:https://www.nelsonhospice.org.nz/wp-content/uploads/sites/329/2026/03/Sprig-Brightwater-Quiz.png
END:VEVENT
BEGIN:VEVENT
DTSTART;TZID=Pacific/Auckland:20260523T100000
DTEND;TZID=Pacific/Auckland:20260523T130000
DTSTAMP:20260424T223220
CREATED:20260415T234056Z
LAST-MODIFIED:20260415T234056Z
UID:10001196-1779530400-1779541200@www.nelsonhospice.org.nz
SUMMARY:Hands Up for Hospice - Open Day
DESCRIPTION:Come along to one of our Open Days – Wednesday 6th May or Saturday 23rd May\n\n\n\nWe’ll be hosting special Open Days during May\, offering a chance to look behind the scenes\, meet our team\, and learn more about how hospice supports people in our region.\n\n\n\nWe warmly welcome you to attend.\n\n\n\nThe open days run 10am – 12pm or 11am – 1pm and include:\n\n\n\n· A welcome and introduction to hospice care\n\n\n\n· Guided inpatient unit tour (small groups)\n\n\n\n· Gardens walk and talk\n\n\n\n· Morning tea and team showcase in the Cicely Saunders area\n\n\n\n· The morning tea crossover will have a “mini expo” feel\, where visitors can connect with different parts of Hospice and learn more about what we do\n\n\n\nNumbers are limited; registrations are essential via this link: https://www.nelsonhospice.org.nz/hands-up-for-hospice-open-days-2026-registration/\n\n\n\nWe are asking for a koha for morning tea
URL:https://www.nelsonhospice.org.nz/event/hands-up-for-hospice-open-day/
LOCATION:Nelson Tasman Hospice\, 331 Suffolk Road\, Nelson\, 7011\, New Zealand
CATEGORIES:Fundraising
ATTACH;FMTTYPE=image/jpeg:https://www.nelsonhospice.org.nz/wp-content/uploads/sites/329/2026/04/Open-day-1170-x-504-px-1.jpg
ORGANIZER;CN="Nelson Tasman Hospice Team":MAILTO:fundraising@nelsonhospice.org.nz
END:VEVENT
BEGIN:VEVENT
DTSTART;TZID=Pacific/Auckland:20260526T190000
DTEND;TZID=Pacific/Auckland:20260526T220000
DTSTAMP:20260424T223220
CREATED:20260219T014350Z
LAST-MODIFIED:20260324T025204Z
UID:10001175-1779822000-1779832800@www.nelsonhospice.org.nz
SUMMARY:Bingo Night - Sprig + Fern Upper Queen
DESCRIPTION:Tuesday night bingo night at Sprig + Fern Upper Queen\, fundraising for Nelson Tasman Hospice!\n\nCome along – starts at 7pm\n12th & 26th May 2026\n\nBingo is $5 per sheet (participants can buy multiple sheets per round)\nBookings recommended – contact Team Hospice\nLots of great raffle prizes!
URL:https://www.nelsonhospice.org.nz/event/bingo-night-sprig-fern-upper-queen/2026-05-26/
LOCATION:Sprig and Fern Upper Queen\, 126 Queen Street\, Richmond\, Tasman\, 7020\, New Zealand
CATEGORIES:Fundraising
ATTACH;FMTTYPE=image/png:https://www.nelsonhospice.org.nz/wp-content/uploads/sites/329/2026/02/Sprig-Queen-Bingo.png
END:VEVENT
BEGIN:VEVENT
DTSTART;TZID=Pacific/Auckland:20260526T190000
DTEND;TZID=Pacific/Auckland:20260526T220000
DTSTAMP:20260424T223220
CREATED:20260324T010201Z
LAST-MODIFIED:20260324T025020Z
UID:10001182-1779822000-1779832800@www.nelsonhospice.org.nz
SUMMARY:Bingo Night - Sprig + Fern Milton Street
DESCRIPTION:[vc_row][vc_column][vc_column_text css=””]\nTuesday bingo nights at Sprig + Fern Milton Street\, fundraising for Nelson Tasman Hospice!\n\nCome along – starts at 7pm\n12th & 26th May 2026\n\nBingo is $5 per sheet (participants can buy multiple sheets per round)\nBookings recommended – contact Team Hospice\nLots of great raffle prizes!\n[/vc_column_text][/vc_column][/vc_row]
URL:https://www.nelsonhospice.org.nz/event/bingo-night-sprig-fern-milton-street/2026-05-26/
LOCATION:Sprig + Fern Milton Street\, 134 Milton Street\, Nelson\, The Wood\, 7010
CATEGORIES:Fundraising
ATTACH;FMTTYPE=image/png:https://www.nelsonhospice.org.nz/wp-content/uploads/sites/329/2026/03/Sprig-Milton-Bingo.png
END:VEVENT
BEGIN:VEVENT
DTSTART;TZID=Pacific/Auckland:20260526T190000
DTEND;TZID=Pacific/Auckland:20260526T220000
DTSTAMP:20260424T223220
CREATED:20260324T022742Z
LAST-MODIFIED:20260415T230753Z
UID:10001188-1779822000-1779832800@www.nelsonhospice.org.nz
SUMMARY:Quiz Night - Little Sprig Wakefield
DESCRIPTION:[vc_row][vc_column][vc_column_text css=””]\nTuesday night pub quiz at Little Sprig Wakefield\, fundraising for Nelson Tasman Hospice!\n\nCome along – starts at 7pm\n26th May 2026\n\nQuiz entry is $10 per person\n\nBookings recommended – contact Little Sprig Wakefield\nLots of great raffle prizes!\n[/vc_column_text][/vc_column][/vc_row]
URL:https://www.nelsonhospice.org.nz/event/quiz-night-little-sprig-wakefield/
LOCATION:Little Sprig Wakefield\, 6 Edward Street\, Wakefield\, Nelson\, 7025\, New Zealand
CATEGORIES:Fundraising
ATTACH;FMTTYPE=image/png:https://www.nelsonhospice.org.nz/wp-content/uploads/sites/329/2026/03/Sprig-Wakefield-Quiz.png
END:VEVENT
BEGIN:VEVENT
DTSTART;TZID=Pacific/Auckland:20260527T173000
DTEND;TZID=Pacific/Auckland:20260527T184500
DTSTAMP:20260424T223220
CREATED:20260413T205640Z
LAST-MODIFIED:20260413T210035Z
UID:10001194-1779903000-1779907500@www.nelsonhospice.org.nz
SUMMARY:Hands up for Care and Connection
DESCRIPTION:[vc_row][vc_column][vc_column_text css=””]\n\nCultural Conversations invite you to join a small Care and Connect gathering — a gentle space to slow down\, share tea and kai\, and connect with the women of Global Stitch Up. \n\n\n\nThis relaxed session offers a chance to pamper yourself while learning from talented wahine in our community: meet Fernanda\, who will share her nail care expertise\, JingJing\, who will offer a soothing hand massage using traditional Chinese tools and her own handmade balm\, and Shakeela\, who will introduce you to the beauty of Mendhi (henna)\, its designs\, and their cultural origins. \n\n\nCome for the care\, stay for the connection\, and help support our local Hospice. \n\n\n5:30pm – 6:45pm Wednesday 27th May \nCultural Conversations\, 123 Bridge Street\, Nelson \nSuggested donation between $20-50 to all go to Nelson Tasman Hospice. \nClick here to RSVP \n\n[/vc_column_text][/vc_column][/vc_row]
URL:https://www.nelsonhospice.org.nz/event/hands-up-for-care-and-connection/
LOCATION:Cultural Conversations\, 123 Bridge Street\, Nelson\, 7010\, New Zealand
CATEGORIES:Fundraising
ATTACH;FMTTYPE=image/png:https://www.nelsonhospice.org.nz/wp-content/uploads/sites/329/2026/04/Hands-up-Cultural-Convo-Host-Event-TIle.png
END:VEVENT
BEGIN:VEVENT
DTSTART;TZID=Pacific/Auckland:20260612T130000
DTEND;TZID=Pacific/Auckland:20260612T150000
DTSTAMP:20260424T223220
CREATED:20260423T104143Z
LAST-MODIFIED:20260423T104235Z
UID:10001198-1781269200-1781276400@www.nelsonhospice.org.nz
SUMMARY:Syringe Driver Workshop for ARC RN's/EN's/ DN's: Friday 12 June 2026
DESCRIPTION:The programme assists Registered Nurses (RNs) and Enrolled Nurses (ENs) working in Aged Residential Care (ARC) and District Nursing (DNs) to obtain the skills and knowledge required to manage a syringe driver in their work setting. * A pre programme workbook will be emailed to participants prior to the workshop. \nSuccessful completion of a written test is required for certification. \n\nPlease note: This workshop is not suitable for Te Whatu Ora Nelson Marlborough RN’s as they use a different learning module – See other listings on Eventbrite or Contact the hospice on 03 546 3950 for dates or email: education@nelsonhospice.org.nz\n\nWorkshops are facilitated on site at Nelson Tasman Hospice or as advertised off site. \nTarget Audience: Aged Residential Care Registered Nurses\, District Nurses\, Enrolled Nurses subject to scope of practice \nDate: Friday 12 June 2026 \nTime: 1300 – 1500 (Workshop starts promptly. Please arrive 10 minutes early to allow time to sign in). \nCost: No charge \nLimited attendees: Max 10 people per session\, registration is essential \nRegister: Click here to register via Eventbrite \nFacilitator: Chris Dunn Clinical Nurse Educator Nelson Tasman Hospice \nVenue: Nelson Tasman Hospice\, 331 Suffolk Road\, Stoke\, Nelson \nPhone: 03 546 3950 \nEmail: education@nelsonhospice.org.nz
URL:https://www.nelsonhospice.org.nz/event/syringe-driver-workshop-for-arc-rns-ens-dns-friday-12-june-2026/
LOCATION:Nelson Tasman Hospice\, 331 Suffolk Road\, Nelson\, 7011\, New Zealand
CATEGORIES:Education
ATTACH;FMTTYPE=image/jpeg:https://www.nelsonhospice.org.nz/wp-content/uploads/sites/329/2023/12/Syringe-driver-picture.jpg
ORGANIZER;CN="Nelson Tasman Hospice Education Team":MAILTO:education@nelsonhospice.org.nz
END:VEVENT
BEGIN:VEVENT
DTSTART;TZID=Pacific/Auckland:20260624T130000
DTEND;TZID=Pacific/Auckland:20260624T150000
DTSTAMP:20260424T223220
CREATED:20260118T221350Z
LAST-MODIFIED:20260118T221350Z
UID:10001162-1782306000-1782313200@www.nelsonhospice.org.nz
SUMMARY:Health New Zealand Te Whatu Ora RN's & EN's Syringe Driver Workshop Wednesday 24 June 2026
DESCRIPTION:This syringe Driver Workshop is for Registered Nurses and Enrolled Nurses Registered Nurses employed by Health New Zealand Te Whatu Ora and delivered onsite at Nelson Hospital. \nPlease note: This workshop is NOT suitable for Registered Nurses & Enrolled Nurses working in Aged Residential Care (ARC) as it is a different learning platform and will not be the right competency you require for your workplace. \nThis syringe driver workshop provides the knowledge and practical skills required to manage a syringe driver in the practice setting and a knowledge of medicines for end of life symptom management. A pre-eLearning package is required prior to the workshop and will be emailed to you on registration from education@nelsonhospice.org.nz . * Please check your spam folder if you do not receive the email and save as “safe sender”. Once you have completed the pre-eLearning\, please send a copy of your certificate via email to education@nelsonhospice.org.nz \n\nDate: Wednesday 24 June @ 1300 – 1500 hrs.\nTarget Audience: Health New Zealand Nelson Marlborough Te Whatu Ora Registered Nurses and Enrolled Nurses\nVenue: Nelson Hospital\, Franklyn Street\, Nelson\, Medical Unit Seminar Room\nFree to attend\nFacilitator: Annie Wallace Clinical Nurse Educator\nRegister:  Click here to register via Eventbrite\nFurther information: email: education@nelsonhospice.org.nz\nPhone: Education administrator Barb Thomas 03 546 3950\n\n 
URL:https://www.nelsonhospice.org.nz/event/health-new-zealand-te-whatu-ora-rns-ens-syringe-driver-workshop-wednesday-24-june-2026/
LOCATION:Nelson Hospital Medical Unit Seminar Room\, 7010 Franklyn Street\, Nelson\, Nelson\, 7010\, New Zealand
CATEGORIES:Education
ATTACH;FMTTYPE=image/png:https://www.nelsonhospice.org.nz/wp-content/uploads/sites/329/2026/01/Nelson-Hospital.png
ORGANIZER;CN="Nelson Tasman Hospice Education Team":MAILTO:education@nelsonhospice.org.nz
END:VEVENT
BEGIN:VEVENT
DTSTART;TZID=Pacific/Auckland:20261028T130000
DTEND;TZID=Pacific/Auckland:20261028T150000
DTSTAMP:20260424T223220
CREATED:20260119T232711Z
LAST-MODIFIED:20260119T232840Z
UID:10001163-1793192400-1793199600@www.nelsonhospice.org.nz
SUMMARY:Health New Zealand Te Whatu Ora RN's & EN's Syringe Driver Workshop Wednesday 28 October 2026
DESCRIPTION:This syringe Driver Workshop is for Registered Nurses and Enrolled Nurses Registered Nurses employed by Health New Zealand Te Whatu Ora and delivered onsite at Nelson Hospital. \nPlease note: This workshop is NOT suitable for Registered Nurses & Enrolled Nurses working in Aged Residential Care (ARC) as it is a different learning platform and will not be the right competency you require for your workplace. \nThis syringe driver workshop provides the knowledge and practical skills required to manage a syringe driver in the practice setting and a knowledge of medicines for end of life symptom management. A pre-eLearning package is required prior to the workshop and will be emailed to you on registration from education@nelsonhospice.org.nz . * Please check your spam folder if you do not receive the email and save as “safe sender”. Once you have completed the pre-eLearning\, please send a copy of your certificate via email to education@nelsonhospice.org.nz \n\nDate: Wednesday 28 October @ 1300 – 1500 hrs.\nTarget Audience: Health New Zealand Nelson Marlborough Te Whatu Ora Registered Nurses and Enrolled Nurses\nVenue: Nelson Hospital\, Franklyn Street\, Nelson\, Medical Unit Seminar Room\nFree to attend\nFacilitator: Annie Wallace Clinical Nurse Educator\nRegister: click here to register via Eventbrite\nFurther information: email: education@nelsonhospice.org.nz\nPhone: Education administrator Barb Thomas 03 546 3950\n\n 
URL:https://www.nelsonhospice.org.nz/event/health-new-zealand-te-whatu-ora-rns-ens-syringe-driver-workshop-wednesday-28-october-2026/
LOCATION:Nelson Hospital Medical Unit Seminar Room\, 7010 Franklyn Street\, Nelson\, Nelson\, 7010\, New Zealand
CATEGORIES:Education
ATTACH;FMTTYPE=image/png:https://www.nelsonhospice.org.nz/wp-content/uploads/sites/329/2026/01/Nelson-Hospital.png
ORGANIZER;CN="Nelson Tasman Hospice Education Team":MAILTO:education@nelsonhospice.org.nz
END:VEVENT
END:VCALENDAR