BEGIN:VCALENDAR
VERSION:2.0
PRODID:-//Nelson Tasman Hospice - ECPv6.15.18//NONSGML v1.0//EN
CALSCALE:GREGORIAN
METHOD:PUBLISH
X-WR-CALNAME:Nelson Tasman Hospice
X-ORIGINAL-URL:https://www.nelsonhospice.org.nz
X-WR-CALDESC:Events for Nelson Tasman Hospice
REFRESH-INTERVAL;VALUE=DURATION:PT1H
X-Robots-Tag:noindex
X-PUBLISHED-TTL:PT1H
BEGIN:VTIMEZONE
TZID:Pacific/Auckland
BEGIN:STANDARD
TZOFFSETFROM:+1300
TZOFFSETTO:+1200
TZNAME:NZST
DTSTART:20250405T140000
END:STANDARD
BEGIN:DAYLIGHT
TZOFFSETFROM:+1200
TZOFFSETTO:+1300
TZNAME:NZDT
DTSTART:20250927T140000
END:DAYLIGHT
BEGIN:STANDARD
TZOFFSETFROM:+1300
TZOFFSETTO:+1200
TZNAME:NZST
DTSTART:20260404T140000
END:STANDARD
BEGIN:DAYLIGHT
TZOFFSETFROM:+1200
TZOFFSETTO:+1300
TZNAME:NZDT
DTSTART:20260926T140000
END:DAYLIGHT
BEGIN:STANDARD
TZOFFSETFROM:+1300
TZOFFSETTO:+1200
TZNAME:NZST
DTSTART:20270403T140000
END:STANDARD
BEGIN:DAYLIGHT
TZOFFSETFROM:+1200
TZOFFSETTO:+1300
TZNAME:NZDT
DTSTART:20270925T140000
END:DAYLIGHT
END:VTIMEZONE
BEGIN:VEVENT
DTSTART;TZID=Pacific/Auckland:20260523T100000
DTEND;TZID=Pacific/Auckland:20260523T130000
DTSTAMP:20260422T062911
CREATED:20260415T234056Z
LAST-MODIFIED:20260415T234056Z
UID:10001196-1779530400-1779541200@www.nelsonhospice.org.nz
SUMMARY:Hands Up for Hospice - Open Day
DESCRIPTION:Come along to one of our Open Days – Wednesday 6th May or Saturday 23rd May\n\n\n\nWe’ll be hosting special Open Days during May\, offering a chance to look behind the scenes\, meet our team\, and learn more about how hospice supports people in our region.\n\n\n\nWe warmly welcome you to attend.\n\n\n\nThe open days run 10am – 12pm or 11am – 1pm and include:\n\n\n\n· A welcome and introduction to hospice care\n\n\n\n· Guided inpatient unit tour (small groups)\n\n\n\n· Gardens walk and talk\n\n\n\n· Morning tea and team showcase in the Cicely Saunders area\n\n\n\n· The morning tea crossover will have a “mini expo” feel\, where visitors can connect with different parts of Hospice and learn more about what we do\n\n\n\nNumbers are limited; registrations are essential via this link: https://www.nelsonhospice.org.nz/hands-up-for-hospice-open-days-2026-registration/\n\n\n\nWe are asking for a koha for morning tea
URL:https://www.nelsonhospice.org.nz/event/hands-up-for-hospice-open-day/
LOCATION:Nelson Tasman Hospice\, 331 Suffolk Road\, Nelson\, 7011\, New Zealand
CATEGORIES:Fundraising
ATTACH;FMTTYPE=image/jpeg:https://www.nelsonhospice.org.nz/wp-content/uploads/sites/329/2026/04/Open-day-1170-x-504-px-1.jpg
ORGANIZER;CN="Nelson Tasman Hospice Team":MAILTO:fundraising@nelsonhospice.org.nz
END:VEVENT
END:VCALENDAR