BEGIN:VCALENDAR
VERSION:2.0
PRODID:-//Nelson Tasman Hospice - ECPv6.15.18//NONSGML v1.0//EN
CALSCALE:GREGORIAN
METHOD:PUBLISH
X-WR-CALNAME:Nelson Tasman Hospice
X-ORIGINAL-URL:https://www.nelsonhospice.org.nz
X-WR-CALDESC:Events for Nelson Tasman Hospice
REFRESH-INTERVAL;VALUE=DURATION:PT1H
X-Robots-Tag:noindex
X-PUBLISHED-TTL:PT1H
BEGIN:VTIMEZONE
TZID:Pacific/Auckland
BEGIN:STANDARD
TZOFFSETFROM:+1300
TZOFFSETTO:+1200
TZNAME:NZST
DTSTART:20250405T140000
END:STANDARD
BEGIN:DAYLIGHT
TZOFFSETFROM:+1200
TZOFFSETTO:+1300
TZNAME:NZDT
DTSTART:20250927T140000
END:DAYLIGHT
BEGIN:STANDARD
TZOFFSETFROM:+1300
TZOFFSETTO:+1200
TZNAME:NZST
DTSTART:20260404T140000
END:STANDARD
BEGIN:DAYLIGHT
TZOFFSETFROM:+1200
TZOFFSETTO:+1300
TZNAME:NZDT
DTSTART:20260926T140000
END:DAYLIGHT
BEGIN:STANDARD
TZOFFSETFROM:+1300
TZOFFSETTO:+1200
TZNAME:NZST
DTSTART:20270403T140000
END:STANDARD
BEGIN:DAYLIGHT
TZOFFSETFROM:+1200
TZOFFSETTO:+1300
TZNAME:NZDT
DTSTART:20270925T140000
END:DAYLIGHT
END:VTIMEZONE
BEGIN:VEVENT
DTSTART;TZID=Pacific/Auckland:20260416T090000
DTEND;TZID=Pacific/Auckland:20260416T123000
DTSTAMP:20260422T003009
CREATED:20260115T013639Z
LAST-MODIFIED:20260226T013526Z
UID:10001151-1776330000-1776342600@www.nelsonhospice.org.nz
SUMMARY:The Better Endings Project
DESCRIPTION:What is the Better Endings Project \nThe Better Endings Project is about educating the community on the basics of caring for people who are dying. This workshop is for the general public and is not designed for health professionals. \nWho is the course for? \nFor the general public who find themselves supporting and caring for people approaching end of life or those anticipating this situation. \nWhat does Nelson Tasman Hospice offer? \nThe facilitators will give practical tips on how you can provide comfort to someone who is dying\, and what you can do to plan for your own and your family’s future. It is an interactive course for up to 20 participants. \nParticipants will learn: \n\nWhat to expect when someone is dying\nHow compassionate communities can improve care of dying\nWhy end of life planning is important and what resources are available\nSimple measures to provide comfort at end of life\nAbout the sanctity of the last hours/days of life and how to cope and support others after death\n\nDetails: \n\nWho can attend? General Public – This workshop is not designed for Health Professionals\nDate: Thursday 16 April 2026\nTime: 0900 – 1230\nCost: Free to attend\nRegister: Click here to register via Eventbrite\nVenue: Nelson Tasman Hospice\, 331 Suffolk Road\, Stoke\, Nelson\n\nFor more information contact the Nelson Tasman Hospice Education Team \nE: education@nelsonhospice.org.nz \nT: (03) 546 3950
URL:https://www.nelsonhospice.org.nz/event/the-better-endings-project-3/
LOCATION:Nelson Tasman Hospice\, 331 Suffolk Road\, Nelson\, 7011\, New Zealand
CATEGORIES:Education,Fundraising
ATTACH;FMTTYPE=image/jpeg:https://www.nelsonhospice.org.nz/wp-content/uploads/sites/329/2025/05/Better-Endings-Project-Cover-NTH.jpg
ORGANIZER;CN="Nelson Tasman Hospice Education Team":MAILTO:education@nelsonhospice.org.nz
END:VEVENT
END:VCALENDAR