BEGIN:VCALENDAR
VERSION:2.0
PRODID:-//Nelson Tasman Hospice - ECPv6.15.20//NONSGML v1.0//EN
CALSCALE:GREGORIAN
METHOD:PUBLISH
X-WR-CALNAME:Nelson Tasman Hospice
X-ORIGINAL-URL:https://www.nelsonhospice.org.nz
X-WR-CALDESC:Events for Nelson Tasman Hospice
REFRESH-INTERVAL;VALUE=DURATION:PT1H
X-Robots-Tag:noindex
X-PUBLISHED-TTL:PT1H
BEGIN:VTIMEZONE
TZID:Pacific/Auckland
BEGIN:STANDARD
TZOFFSETFROM:+1300
TZOFFSETTO:+1200
TZNAME:NZST
DTSTART:20240406T140000
END:STANDARD
BEGIN:DAYLIGHT
TZOFFSETFROM:+1200
TZOFFSETTO:+1300
TZNAME:NZDT
DTSTART:20240928T140000
END:DAYLIGHT
BEGIN:STANDARD
TZOFFSETFROM:+1300
TZOFFSETTO:+1200
TZNAME:NZST
DTSTART:20250405T140000
END:STANDARD
BEGIN:DAYLIGHT
TZOFFSETFROM:+1200
TZOFFSETTO:+1300
TZNAME:NZDT
DTSTART:20250927T140000
END:DAYLIGHT
BEGIN:STANDARD
TZOFFSETFROM:+1300
TZOFFSETTO:+1200
TZNAME:NZST
DTSTART:20260404T140000
END:STANDARD
BEGIN:DAYLIGHT
TZOFFSETFROM:+1200
TZOFFSETTO:+1300
TZNAME:NZDT
DTSTART:20260926T140000
END:DAYLIGHT
BEGIN:STANDARD
TZOFFSETFROM:+1300
TZOFFSETTO:+1200
TZNAME:NZST
DTSTART:20270403T140000
END:STANDARD
BEGIN:DAYLIGHT
TZOFFSETFROM:+1200
TZOFFSETTO:+1300
TZNAME:NZDT
DTSTART:20270925T140000
END:DAYLIGHT
END:VTIMEZONE
BEGIN:VEVENT
DTSTART;TZID=Pacific/Auckland:20251128T080000
DTEND;TZID=Pacific/Auckland:20260108T170000
DTSTAMP:20260422T144150
CREATED:20250911T224350Z
LAST-MODIFIED:20250911T224350Z
UID:10001143-1764316800-1767891600@www.nelsonhospice.org.nz
SUMMARY:Nelson Airport Trees of Remembrance
DESCRIPTION:Lighting up the airport terminal with Christmas Trees representing all that our region has to offer and remembering loved ones. \nOur sponsor teams decorate Christmas Trees within Nelson Airport to delight the public for six weeks over the holiday period. \nThis is a fundraiser for Nelson Tasman Hospice and sponsored by Nelson Airport. \nVote for your favourite tree and win great prizes! Treasure hunt for the kids. \nGet along to the airport and check it out.
URL:https://www.nelsonhospice.org.nz/event/nelson-airport-trees-of-remembrance/
LOCATION:Nelson Airport\, Trent Drive\, Nelson Airport\, Nelson 7011\, New Zealand
CATEGORIES:Fundraising
ATTACH;FMTTYPE=image/jpeg:https://www.nelsonhospice.org.nz/wp-content/uploads/sites/329/2025/09/Eventfinda-header-Airport-TOR-1170-x-504-px-1.jpg
ORGANIZER;CN="Nelson Tasman Hospice Team":MAILTO:fundraising@nelsonhospice.org.nz
END:VEVENT
END:VCALENDAR