BEGIN:VCALENDAR
VERSION:2.0
PRODID:-//Nelson Tasman Hospice - ECPv6.15.20//NONSGML v1.0//EN
CALSCALE:GREGORIAN
METHOD:PUBLISH
X-WR-CALNAME:Nelson Tasman Hospice
X-ORIGINAL-URL:https://www.nelsonhospice.org.nz
X-WR-CALDESC:Events for Nelson Tasman Hospice
REFRESH-INTERVAL;VALUE=DURATION:PT1H
X-Robots-Tag:noindex
X-PUBLISHED-TTL:PT1H
BEGIN:VTIMEZONE
TZID:Pacific/Auckland
BEGIN:STANDARD
TZOFFSETFROM:+1300
TZOFFSETTO:+1200
TZNAME:NZST
DTSTART:20240406T140000
END:STANDARD
BEGIN:DAYLIGHT
TZOFFSETFROM:+1200
TZOFFSETTO:+1300
TZNAME:NZDT
DTSTART:20240928T140000
END:DAYLIGHT
BEGIN:STANDARD
TZOFFSETFROM:+1300
TZOFFSETTO:+1200
TZNAME:NZST
DTSTART:20250405T140000
END:STANDARD
BEGIN:DAYLIGHT
TZOFFSETFROM:+1200
TZOFFSETTO:+1300
TZNAME:NZDT
DTSTART:20250927T140000
END:DAYLIGHT
BEGIN:STANDARD
TZOFFSETFROM:+1300
TZOFFSETTO:+1200
TZNAME:NZST
DTSTART:20260404T140000
END:STANDARD
BEGIN:DAYLIGHT
TZOFFSETFROM:+1200
TZOFFSETTO:+1300
TZNAME:NZDT
DTSTART:20260926T140000
END:DAYLIGHT
END:VTIMEZONE
BEGIN:VEVENT
DTSTART;TZID=Pacific/Auckland:20250320T173000
DTEND;TZID=Pacific/Auckland:20250320T193000
DTSTAMP:20260426T000457
CREATED:20250313T201123Z
LAST-MODIFIED:20250313T201153Z
UID:10001125-1742491800-1742499000@www.nelsonhospice.org.nz
SUMMARY:Blair Cameron - NBS Dancing for a Cause - Fashion for a Cause
DESCRIPTION:Bubbly & canapes and a preview of Autumn Fashion from Karen Jordan Style & Nelson Menswear. \nSupporting Blair Cameron & Hazel Black to raise funds for Nelson Tasman Hospice and NBS Dancing for a Cause \nTickets $100 incl Goodie Bag \nGet your tickets from Karen Jordan Style or Nelson Tailors Menswear
URL:https://www.nelsonhospice.org.nz/event/blair-cameron-nbs-dancing-for-a-cause-fashion-for-a-cause/
LOCATION:Nelson Tailors Menswear\, 151 Trafalgar Street\, Nelson\, Nelson/Malborough\, 7010\, New Zealand
CATEGORIES:Fundraising
ATTACH;FMTTYPE=image/jpeg:https://www.nelsonhospice.org.nz/wp-content/uploads/sites/329/2025/03/Fashion-for-a-Cause.jpg
END:VEVENT
END:VCALENDAR