BEGIN:VCALENDAR
VERSION:2.0
PRODID:-//Nelson Tasman Hospice - ECPv6.15.20//NONSGML v1.0//EN
CALSCALE:GREGORIAN
METHOD:PUBLISH
X-WR-CALNAME:Nelson Tasman Hospice
X-ORIGINAL-URL:https://www.nelsonhospice.org.nz
X-WR-CALDESC:Events for Nelson Tasman Hospice
REFRESH-INTERVAL;VALUE=DURATION:PT1H
X-Robots-Tag:noindex
X-PUBLISHED-TTL:PT1H
BEGIN:VTIMEZONE
TZID:Pacific/Auckland
BEGIN:STANDARD
TZOFFSETFROM:+1300
TZOFFSETTO:+1200
TZNAME:NZST
DTSTART:20240406T140000
END:STANDARD
BEGIN:DAYLIGHT
TZOFFSETFROM:+1200
TZOFFSETTO:+1300
TZNAME:NZDT
DTSTART:20240928T140000
END:DAYLIGHT
BEGIN:STANDARD
TZOFFSETFROM:+1300
TZOFFSETTO:+1200
TZNAME:NZST
DTSTART:20250405T140000
END:STANDARD
BEGIN:DAYLIGHT
TZOFFSETFROM:+1200
TZOFFSETTO:+1300
TZNAME:NZDT
DTSTART:20250927T140000
END:DAYLIGHT
BEGIN:STANDARD
TZOFFSETFROM:+1300
TZOFFSETTO:+1200
TZNAME:NZST
DTSTART:20260404T140000
END:STANDARD
BEGIN:DAYLIGHT
TZOFFSETFROM:+1200
TZOFFSETTO:+1300
TZNAME:NZDT
DTSTART:20260926T140000
END:DAYLIGHT
END:VTIMEZONE
BEGIN:VEVENT
DTSTART;TZID=Pacific/Auckland:20250222T080000
DTEND;TZID=Pacific/Auckland:20250223T170000
DTSTAMP:20260426T000416
CREATED:20250124T021024Z
LAST-MODIFIED:20250124T021024Z
UID:10001118-1740211200-1740330000@www.nelsonhospice.org.nz
SUMMARY:Rhys Black & Campbell Rollo - NBS Dancing for a Cause Nelson Tasman Hospice - United for Hospice
DESCRIPTION:A charity 7-A-Side Football Tournament to raise essential funds for Nelson Tasman Hospice. \nMixed/Women’s/Masters \nTeam entry $300 – max 11 people per team. Registrations close 14 February 2025 \nIf you’re interested to know more about the rules of the tournament or to register\, please email unitedforhospice25@gmail.com and we’ll send through the tournament’s Rules of Engagement and a registration form.
URL:https://www.nelsonhospice.org.nz/event/rhys-black-campbell-rollo-nbs-dancing-for-a-cause-nelson-tasman-hospice-united-for-hospice/
LOCATION:Saxton Field\, 142 Saxton Road East\, Nelson\, Nelson\, 7011\, New Zealand
CATEGORIES:Fundraising
ATTACH;FMTTYPE=image/jpeg:https://www.nelsonhospice.org.nz/wp-content/uploads/sites/329/2025/01/473622838_122134407644554362_6360528707399992876_n.jpg
ORGANIZER;CN="Campbell Rollo &amp%3B Rhys Black":MAILTO:unitedforhospice25@gmail.com
END:VEVENT
BEGIN:VEVENT
DTSTART;TZID=Pacific/Auckland:20250222T180000
DTEND;TZID=Pacific/Auckland:20250222T220000
DTSTAMP:20260426T000416
CREATED:20250214T015005Z
LAST-MODIFIED:20250214T015054Z
UID:10001121-1740247200-1740261600@www.nelsonhospice.org.nz
SUMMARY:Anna Hay - NBS Dancing for a Cause - Sparkle for Hospice
DESCRIPTION:3 course dinner with cash bar at The Grape Escape. \nTickets $70 \ndress code: Cocktail attire \nEmail anna.nath@gmail.com for tickets
URL:https://www.nelsonhospice.org.nz/event/anna-hay-nbs-dancing-for-a-cause-sparkle-for-hospice/
LOCATION:The Grape Escape\, 143 McShane Road\, Appleby\, Tasman\, 7020\, New Zealand
CATEGORIES:Fundraising
ATTACH;FMTTYPE=image/jpeg:https://www.nelsonhospice.org.nz/wp-content/uploads/sites/329/2025/02/475164188_122137294904461735_4801855054027273973_n.jpg
END:VEVENT
END:VCALENDAR