BEGIN:VCALENDAR
VERSION:2.0
PRODID:-//Nelson Tasman Hospice - ECPv6.15.20//NONSGML v1.0//EN
CALSCALE:GREGORIAN
METHOD:PUBLISH
X-WR-CALNAME:Nelson Tasman Hospice
X-ORIGINAL-URL:https://www.nelsonhospice.org.nz
X-WR-CALDESC:Events for Nelson Tasman Hospice
REFRESH-INTERVAL;VALUE=DURATION:PT1H
X-Robots-Tag:noindex
X-PUBLISHED-TTL:PT1H
BEGIN:VTIMEZONE
TZID:Pacific/Auckland
BEGIN:STANDARD
TZOFFSETFROM:+1300
TZOFFSETTO:+1200
TZNAME:NZST
DTSTART:20230401T140000
END:STANDARD
BEGIN:DAYLIGHT
TZOFFSETFROM:+1200
TZOFFSETTO:+1300
TZNAME:NZDT
DTSTART:20230923T140000
END:DAYLIGHT
BEGIN:STANDARD
TZOFFSETFROM:+1300
TZOFFSETTO:+1200
TZNAME:NZST
DTSTART:20240406T140000
END:STANDARD
BEGIN:DAYLIGHT
TZOFFSETFROM:+1200
TZOFFSETTO:+1300
TZNAME:NZDT
DTSTART:20240928T140000
END:DAYLIGHT
BEGIN:STANDARD
TZOFFSETFROM:+1300
TZOFFSETTO:+1200
TZNAME:NZST
DTSTART:20250405T140000
END:STANDARD
BEGIN:DAYLIGHT
TZOFFSETFROM:+1200
TZOFFSETTO:+1300
TZNAME:NZDT
DTSTART:20250927T140000
END:DAYLIGHT
END:VTIMEZONE
BEGIN:VEVENT
DTSTART;TZID=Pacific/Auckland:20241128T180000
DTEND;TZID=Pacific/Auckland:20241128T200000
DTSTAMP:20260426T030048
CREATED:20241013T230009Z
LAST-MODIFIED:20241013T230536Z
UID:10001097-1732816800-1732824000@www.nelsonhospice.org.nz
SUMMARY:Steph Collett – NBS Dancing for a Cause Nelson Tasman Hospice – Stacey Fashion Show
DESCRIPTION:A Sundial Square Soirée \n\nStacey invites you to our “Dancing For A Cause” Fashion Show. Stacey is proudly supporting Steph Collett in the 2025 NBS Dancing for a Cause – Nelson Hospice\, raising funds for the Nelson Tasman Hospice\n\n\n\nThursday 28 November | 6pm – 8pm | Tickets $60\n\n\n\nDress in your finest\, and enjoy a seat in our exclusive VIP area\, bubbles and nibbles\, live entertainment\, amazing goodie bags and more.\n\n\n\nTickets are limited. Come in store from Monday or email us at sales@staceyclothing.co.nz to reserve yours.
URL:https://www.nelsonhospice.org.nz/event/steph-collett-nbs-dancing-for-a-cause-nelson-tasman-hospice-stacey-fashion-show/
LOCATION:Sundial Square Richmond\, 254 Queen Street\, Richmond\, 7020\, New Zealand
CATEGORIES:Fundraising
ATTACH;FMTTYPE=image/jpeg:https://www.nelsonhospice.org.nz/wp-content/uploads/sites/329/2024/10/462706547_1081735063956032_8046055287872379099_n.jpg
END:VEVENT
END:VCALENDAR