BEGIN:VCALENDAR
VERSION:2.0
PRODID:-//Nelson Tasman Hospice - ECPv6.15.20//NONSGML v1.0//EN
CALSCALE:GREGORIAN
METHOD:PUBLISH
X-WR-CALNAME:Nelson Tasman Hospice
X-ORIGINAL-URL:https://www.nelsonhospice.org.nz
X-WR-CALDESC:Events for Nelson Tasman Hospice
REFRESH-INTERVAL;VALUE=DURATION:PT1H
X-Robots-Tag:noindex
X-PUBLISHED-TTL:PT1H
BEGIN:VTIMEZONE
TZID:Pacific/Auckland
BEGIN:STANDARD
TZOFFSETFROM:+1300
TZOFFSETTO:+1200
TZNAME:NZST
DTSTART:20230401T140000
END:STANDARD
BEGIN:DAYLIGHT
TZOFFSETFROM:+1200
TZOFFSETTO:+1300
TZNAME:NZDT
DTSTART:20230923T140000
END:DAYLIGHT
BEGIN:STANDARD
TZOFFSETFROM:+1300
TZOFFSETTO:+1200
TZNAME:NZST
DTSTART:20240406T140000
END:STANDARD
BEGIN:DAYLIGHT
TZOFFSETFROM:+1200
TZOFFSETTO:+1300
TZNAME:NZDT
DTSTART:20240928T140000
END:DAYLIGHT
BEGIN:STANDARD
TZOFFSETFROM:+1300
TZOFFSETTO:+1200
TZNAME:NZST
DTSTART:20250405T140000
END:STANDARD
BEGIN:DAYLIGHT
TZOFFSETFROM:+1200
TZOFFSETTO:+1300
TZNAME:NZDT
DTSTART:20250927T140000
END:DAYLIGHT
END:VTIMEZONE
BEGIN:VEVENT
DTSTART;TZID=Pacific/Auckland:20241110T090000
DTEND;TZID=Pacific/Auckland:20241110T150000
DTSTAMP:20260426T082519
CREATED:20241104T013113Z
LAST-MODIFIED:20241104T013225Z
UID:10001101-1731229200-1731250800@www.nelsonhospice.org.nz
SUMMARY:Rhys Black - NBS Dancing for a Cause Nelson Tasman Hospice - Grime Fighters Car Wash
DESCRIPTION:Car Wash\nSausage Sizzle\nHome Baking & Drinks\n\n 
URL:https://www.nelsonhospice.org.nz/event/rhys-black-nbs-dancing-for-a-cause-nelson-tasman-hospice-grime-fighters-car-wash/
LOCATION:The Tyre General Nelson\, 118 Tahunanui Drive\, Nelson\, Nelson\, 7010\, New Zealand
CATEGORIES:Fundraising
ATTACH;FMTTYPE=image/jpeg:https://www.nelsonhospice.org.nz/wp-content/uploads/sites/329/2024/11/465176572_122114963234554362_1102252154115876686_n.jpg
END:VEVENT
END:VCALENDAR