BEGIN:VCALENDAR
VERSION:2.0
PRODID:-//Nelson Tasman Hospice - ECPv6.15.20//NONSGML v1.0//EN
CALSCALE:GREGORIAN
METHOD:PUBLISH
X-WR-CALNAME:Nelson Tasman Hospice
X-ORIGINAL-URL:https://www.nelsonhospice.org.nz
X-WR-CALDESC:Events for Nelson Tasman Hospice
REFRESH-INTERVAL;VALUE=DURATION:PT1H
X-Robots-Tag:noindex
X-PUBLISHED-TTL:PT1H
BEGIN:VTIMEZONE
TZID:Pacific/Auckland
BEGIN:STANDARD
TZOFFSETFROM:+1300
TZOFFSETTO:+1200
TZNAME:NZST
DTSTART:20230401T140000
END:STANDARD
BEGIN:DAYLIGHT
TZOFFSETFROM:+1200
TZOFFSETTO:+1300
TZNAME:NZDT
DTSTART:20230923T140000
END:DAYLIGHT
BEGIN:STANDARD
TZOFFSETFROM:+1300
TZOFFSETTO:+1200
TZNAME:NZST
DTSTART:20240406T140000
END:STANDARD
BEGIN:DAYLIGHT
TZOFFSETFROM:+1200
TZOFFSETTO:+1300
TZNAME:NZDT
DTSTART:20240928T140000
END:DAYLIGHT
BEGIN:STANDARD
TZOFFSETFROM:+1300
TZOFFSETTO:+1200
TZNAME:NZST
DTSTART:20250405T140000
END:STANDARD
BEGIN:DAYLIGHT
TZOFFSETFROM:+1200
TZOFFSETTO:+1300
TZNAME:NZDT
DTSTART:20250927T140000
END:DAYLIGHT
END:VTIMEZONE
BEGIN:VEVENT
DTSTART;TZID=Pacific/Auckland:20240727T100000
DTEND;TZID=Pacific/Auckland:20240727T130000
DTSTAMP:20260426T134438
CREATED:20240716T230156Z
LAST-MODIFIED:20240716T230156Z
UID:10001085-1722074400-1722085200@www.nelsonhospice.org.nz
SUMMARY:Mop-Up Pop-Up Fabric-a-brac
DESCRIPTION:Tasman and Golden Bay – it’s your chance to pick up vintage and modern fabric\, curtailing and lining\, sewing supplies\, patterns\, buttons\, zips\, haberdashery and more – at bargain prices. This is a special sale of items left over from the Nelson Fabric-a-brac fabric sale in May. \nSaturday 27th July \n10am – 1pm \nTākaka Hospice Shop \nAll proceeds go to Nelson Tasman Hospice
URL:https://www.nelsonhospice.org.nz/event/mop-up-pop-up-fabric-a-brac/
LOCATION:Tākaka Hospice Shop\, 37 Commercial Street\, Takaka\, 7110\, New Zealand
CATEGORIES:Fundraising
ATTACH;FMTTYPE=image/png:https://www.nelsonhospice.org.nz/wp-content/uploads/sites/329/2024/07/2.png
ORGANIZER;CN="Fabric-a-Brac":MAILTO:fbbnelson@gmail.com
END:VEVENT
END:VCALENDAR