BEGIN:VCALENDAR
VERSION:2.0
PRODID:-//Nelson Tasman Hospice - ECPv6.15.20//NONSGML v1.0//EN
CALSCALE:GREGORIAN
METHOD:PUBLISH
X-WR-CALNAME:Nelson Tasman Hospice
X-ORIGINAL-URL:https://www.nelsonhospice.org.nz
X-WR-CALDESC:Events for Nelson Tasman Hospice
REFRESH-INTERVAL;VALUE=DURATION:PT1H
X-Robots-Tag:noindex
X-PUBLISHED-TTL:PT1H
BEGIN:VTIMEZONE
TZID:Pacific/Auckland
BEGIN:STANDARD
TZOFFSETFROM:+1300
TZOFFSETTO:+1200
TZNAME:NZST
DTSTART:20240406T140000
END:STANDARD
BEGIN:DAYLIGHT
TZOFFSETFROM:+1200
TZOFFSETTO:+1300
TZNAME:NZDT
DTSTART:20240928T140000
END:DAYLIGHT
BEGIN:STANDARD
TZOFFSETFROM:+1300
TZOFFSETTO:+1200
TZNAME:NZST
DTSTART:20250405T140000
END:STANDARD
BEGIN:DAYLIGHT
TZOFFSETFROM:+1200
TZOFFSETTO:+1300
TZNAME:NZDT
DTSTART:20250927T140000
END:DAYLIGHT
BEGIN:STANDARD
TZOFFSETFROM:+1300
TZOFFSETTO:+1200
TZNAME:NZST
DTSTART:20260404T140000
END:STANDARD
BEGIN:DAYLIGHT
TZOFFSETFROM:+1200
TZOFFSETTO:+1300
TZNAME:NZDT
DTSTART:20260926T140000
END:DAYLIGHT
END:VTIMEZONE
BEGIN:VEVENT
DTSTART;VALUE=DATE:20251018
DTEND;VALUE=DATE:20251019
DTSTAMP:20260422T182355
CREATED:20250805T235401Z
LAST-MODIFIED:20250805T235401Z
UID:10001138-1760745600-1760831999@www.nelsonhospice.org.nz
SUMMARY:Mowsworth Rampage 2025
DESCRIPTION:Saturday 18th October 2025 – Join us on the Mowsworth Rampage Challenge! \nThe Mowsworth Rampage is an endurance ride on ride-on lawnmowers going through the Molesworth to Hanmer Springs. \nYou’ll ride 86kms and you’ll also make a difference by raising both awareness and funds for Nelson Tasman Hospice and the Cancer Society Nelson Tasman. Planned pitstops along the route will provide refreshments and an opportunity to catch up with other participants and friends. \nIt’s not for the faint-hearted.  \n\n\nIn 1 day\, you will cover 86km… on a Ride-on Lawnmower (minus the blades).\n\nYES! That is your challenge. To conquer the Molesworth track (from Molesworth Station to Hanmer Springs.)\nYes\, it will be a long hot\, dusty slog. Yes\, you will be riding a lawn mower with no guts. Yes\, you will laugh and curse and think you could walk faster than this (but you can’t).\nYes\, it will be hard\, but this challenge is nothing compared to what cancer patients have to go through every day.\nJoin Cancer Society Nelson Tasman and Nelson Tasman Hospice and ride with us in the Mowsworth Rampage to raise money to help support our locals.\nThe Mowsworth Rampage is the coolest\, longest\, hardest and most gruelling test of endurance on a ride-on lawnmower that we know of. Are you up for the challenge? It’s a 1-day Road-trip to Raise Money for Cancer Society Nelson Tasman and Nelson Tasman Hospice. It’s not for the faint-hearted. \nDress up\, decorate your ride-on lawnmower\, and join us at the starting line! It’s going to be a great day out for a good cause. See you there! \n\nRegister here!
URL:https://www.nelsonhospice.org.nz/event/mowsworth-rampage-2025/
LOCATION:Molesworth Cobb Cottage Gate\, Acheron Road\, Blenheim\, Marlborough\, 7274\, New Zealand
CATEGORIES:Fundraising
ATTACH;FMTTYPE=image/jpeg:https://www.nelsonhospice.org.nz/wp-content/uploads/sites/329/2025/08/Mowsworth-Facebook-cover.jpg
ORGANIZER;CN="Richmond Glass Service":MAILTO:stuart@richmondglass.co.nz
GEO:-42.08511648;173.27020624
X-APPLE-STRUCTURED-LOCATION;VALUE=URI;X-ADDRESS=Molesworth Cobb Cottage Gate Acheron Road Blenheim Marlborough 7274 New Zealand;X-APPLE-RADIUS=500;X-TITLE=Acheron Road:geo:173.27020624,-42.08511648
END:VEVENT
END:VCALENDAR