BEGIN:VCALENDAR
VERSION:2.0
PRODID:-//Nelson Tasman Hospice - ECPv6.15.20//NONSGML v1.0//EN
CALSCALE:GREGORIAN
METHOD:PUBLISH
X-WR-CALNAME:Nelson Tasman Hospice
X-ORIGINAL-URL:https://www.nelsonhospice.org.nz
X-WR-CALDESC:Events for Nelson Tasman Hospice
REFRESH-INTERVAL;VALUE=DURATION:PT1H
X-Robots-Tag:noindex
X-PUBLISHED-TTL:PT1H
BEGIN:VTIMEZONE
TZID:Pacific/Auckland
BEGIN:STANDARD
TZOFFSETFROM:+1300
TZOFFSETTO:+1200
TZNAME:NZST
DTSTART:20240406T140000
END:STANDARD
BEGIN:DAYLIGHT
TZOFFSETFROM:+1200
TZOFFSETTO:+1300
TZNAME:NZDT
DTSTART:20240928T140000
END:DAYLIGHT
BEGIN:STANDARD
TZOFFSETFROM:+1300
TZOFFSETTO:+1200
TZNAME:NZST
DTSTART:20250405T140000
END:STANDARD
BEGIN:DAYLIGHT
TZOFFSETFROM:+1200
TZOFFSETTO:+1300
TZNAME:NZDT
DTSTART:20250927T140000
END:DAYLIGHT
BEGIN:STANDARD
TZOFFSETFROM:+1300
TZOFFSETTO:+1200
TZNAME:NZST
DTSTART:20260404T140000
END:STANDARD
BEGIN:DAYLIGHT
TZOFFSETFROM:+1200
TZOFFSETTO:+1300
TZNAME:NZDT
DTSTART:20260926T140000
END:DAYLIGHT
END:VTIMEZONE
BEGIN:VEVENT
DTSTART;TZID=Pacific/Auckland:20250912T183000
DTEND;TZID=Pacific/Auckland:20250912T220000
DTSTAMP:20260423T015007
CREATED:20250812T031233Z
LAST-MODIFIED:20250812T031511Z
UID:10001139-1757701800-1757714400@www.nelsonhospice.org.nz
SUMMARY:BNI Nelson Originals Quiz Night
DESCRIPTION: Spring into Action for Hospice! Join BNI Originals Nelson for a fun-filled Spring Quiz Night!\n Trivia | Platters | Pizza | Auctions | Prizes |  Dress-up\n Marist Clubrooms\, Hathaway Terrace\n Friday\, 12th September Doors open: 6:30 PM | Quiz starts: 7:00 PM\n\n $200 per table of 8 | $250 with a platter Hot pizzas available to order on the night!\n\n Dress in your boldest spring look—florals\, pastels & sunshine vibes! Prizes for best dressed!\n\nAll proceeds go to support Hospice Let’s have fun and make a difference—one question at a time!\n#SpringForHospice #BNINelson #QuizNight #CommunitySpirit #DressToImpress\n\nContact to book a table: Business Networking Referral Organisation Group | BNI Nelson Originals | BNI NZ\, New Zealand | English (NZ) | BNI Nelson Originals
URL:https://www.nelsonhospice.org.nz/event/bni-nelson-originals-quiz-night/
LOCATION:Marist Clubrooms\, Hathaway Terrace\, Nelson\, Nelson\, 7010
CATEGORIES:Fundraising
ATTACH;FMTTYPE=image/jpeg:https://www.nelsonhospice.org.nz/wp-content/uploads/sites/329/2025/08/528139609_1261953725975773_3975211083937281231_n.jpg
END:VEVENT
BEGIN:VEVENT
DTSTART;VALUE=DATE:20250919
DTEND;VALUE=DATE:20250920
DTSTAMP:20260423T015007
CREATED:20250904T211253Z
LAST-MODIFIED:20250904T211535Z
UID:10001141-1758240000-1758326399@www.nelsonhospice.org.nz
SUMMARY:Summit Keir Wilkinson Memorial Golf Tournament 2025
DESCRIPTION:The Summit Keir Wilkinson Memorial Golf Tournament at the Nelson Golf Club\, is all set to run again on Friday 19th of September. \nThere are an amazing variety of sports memorabilia and other items up for auction to help fundraise for Nelson Tasman Hospice. The auction is open to any members of the public that would like to come along on the night to bid from approx 6pm. \nThis event is in its fourth year and has so far raised an amazing $210\,000 for Nelson Tasman Hospice\, which benefits the 210 patients we care for each month.
URL:https://www.nelsonhospice.org.nz/event/summit-keir-wilkinson-memorial-golf-tournament-2025/
LOCATION:Nelson Golf Club\, 38 Bolt Road\, Nelson\, Tahunanui\, 7011\, New Zealand
CATEGORIES:Fundraising
ATTACH;FMTTYPE=image/jpeg:https://www.nelsonhospice.org.nz/wp-content/uploads/sites/329/2025/09/Keir-Wilkinson-Golf-Tournament.jpg
END:VEVENT
END:VCALENDAR