BEGIN:VCALENDAR
VERSION:2.0
PRODID:-//Nelson Tasman Hospice - ECPv6.15.20//NONSGML v1.0//EN
CALSCALE:GREGORIAN
METHOD:PUBLISH
X-WR-CALNAME:Nelson Tasman Hospice
X-ORIGINAL-URL:https://www.nelsonhospice.org.nz
X-WR-CALDESC:Events for Nelson Tasman Hospice
REFRESH-INTERVAL;VALUE=DURATION:PT1H
X-Robots-Tag:noindex
X-PUBLISHED-TTL:PT1H
BEGIN:VTIMEZONE
TZID:Pacific/Auckland
BEGIN:STANDARD
TZOFFSETFROM:+1300
TZOFFSETTO:+1200
TZNAME:NZST
DTSTART:20240406T140000
END:STANDARD
BEGIN:DAYLIGHT
TZOFFSETFROM:+1200
TZOFFSETTO:+1300
TZNAME:NZDT
DTSTART:20240928T140000
END:DAYLIGHT
BEGIN:STANDARD
TZOFFSETFROM:+1300
TZOFFSETTO:+1200
TZNAME:NZST
DTSTART:20250405T140000
END:STANDARD
BEGIN:DAYLIGHT
TZOFFSETFROM:+1200
TZOFFSETTO:+1300
TZNAME:NZDT
DTSTART:20250927T140000
END:DAYLIGHT
BEGIN:STANDARD
TZOFFSETFROM:+1300
TZOFFSETTO:+1200
TZNAME:NZST
DTSTART:20260404T140000
END:STANDARD
BEGIN:DAYLIGHT
TZOFFSETFROM:+1200
TZOFFSETTO:+1300
TZNAME:NZDT
DTSTART:20260926T140000
END:DAYLIGHT
END:VTIMEZONE
BEGIN:VEVENT
DTSTART;TZID=Pacific/Auckland:20250501T183000
DTEND;TZID=Pacific/Auckland:20250501T223000
DTSTAMP:20260423T074715
CREATED:20250422T032901Z
LAST-MODIFIED:20250422T032901Z
UID:10001129-1746124200-1746138600@www.nelsonhospice.org.nz
SUMMARY:Casino for a Cause - Supporting Nelson Tasman Hospice
DESCRIPTION: Get ready for a night of glitz\, glamour\, and giving back! \nGrab your friends and join us for “Casino for a Cause” – an unforgettable evening supporting the incredible work of the Nelson Tasman Hospice.\n Thursday\, May 1st | 6:30 PM Nelson Classic Car Museum\n Tickets are just $50 and include: A glass of bubbles on arrival Decadent snacks\, desserts & sweet treats from Hattie’s Café Raffles\, auctions\, and live entertainment! Chips to play on up to a dozen thrilling casino tables – including blackjack\, Texas hold’em\, roulette & more (100% free to play – no actual gambling involved) Chip winners can earn a seat at the High Roller Table to compete for the Grand Prize All funds raised go directly to the Nelson Tasman Hospice Proudly part of Team Blair & Hazel’s fundraising for NBS Dancing for a Cause 2025.\nDon’t miss this feel-good\, high-energy night out! Text Jo van Workum (027 431 9542) now with your name and how many tickets you need
URL:https://www.nelsonhospice.org.nz/event/casino-for-a-cause-supporting-nelson-tasman-hospice/
LOCATION:Nelson Classic Car Museum\, 1 Cadillac Way\, Nelson\, Annesbrook\, 7011\, New Zealand
CATEGORIES:Fundraising
ATTACH;FMTTYPE=image/jpeg:https://www.nelsonhospice.org.nz/wp-content/uploads/sites/329/2025/04/491811474_639318299087922_6778469400144574792_n.jpg
END:VEVENT
BEGIN:VEVENT
DTSTART;TZID=Pacific/Auckland:20250527T153000
DTEND;TZID=Pacific/Auckland:20250527T163000
DTSTAMP:20260423T074715
CREATED:20250519T204614Z
LAST-MODIFIED:20250519T204614Z
UID:10001132-1748359800-1748363400@www.nelsonhospice.org.nz
SUMMARY:Tākaka Hospice Shop Open Day
DESCRIPTION:Ever thought about volunteering? \nGet a behind the scenes tour of our Tākaka shop and meet the team! \nRefreshments provided. \n  \nFor all volunteering opportunities\, contact volunteers@nelsonhospice.org.nz
URL:https://www.nelsonhospice.org.nz/event/takaka-hospice-shop-open-day/
LOCATION:Tākaka Hospice Shop\, 37 Commercial Street\, Takaka\, 7110\, New Zealand
CATEGORIES:Fundraising
ATTACH;FMTTYPE=image/jpeg:https://www.nelsonhospice.org.nz/wp-content/uploads/sites/329/2025/05/Takaka-Volunteer-Open-Day-AD-1920-x-1005-px.jpg
END:VEVENT
END:VCALENDAR