BEGIN:VCALENDAR
VERSION:2.0
PRODID:-//Nelson Tasman Hospice - ECPv6.15.20//NONSGML v1.0//EN
CALSCALE:GREGORIAN
METHOD:PUBLISH
X-WR-CALNAME:Nelson Tasman Hospice
X-ORIGINAL-URL:https://www.nelsonhospice.org.nz
X-WR-CALDESC:Events for Nelson Tasman Hospice
REFRESH-INTERVAL;VALUE=DURATION:PT1H
X-Robots-Tag:noindex
X-PUBLISHED-TTL:PT1H
BEGIN:VTIMEZONE
TZID:Pacific/Auckland
BEGIN:STANDARD
TZOFFSETFROM:+1300
TZOFFSETTO:+1200
TZNAME:NZST
DTSTART:20240406T140000
END:STANDARD
BEGIN:DAYLIGHT
TZOFFSETFROM:+1200
TZOFFSETTO:+1300
TZNAME:NZDT
DTSTART:20240928T140000
END:DAYLIGHT
BEGIN:STANDARD
TZOFFSETFROM:+1300
TZOFFSETTO:+1200
TZNAME:NZST
DTSTART:20250405T140000
END:STANDARD
BEGIN:DAYLIGHT
TZOFFSETFROM:+1200
TZOFFSETTO:+1300
TZNAME:NZDT
DTSTART:20250927T140000
END:DAYLIGHT
BEGIN:STANDARD
TZOFFSETFROM:+1300
TZOFFSETTO:+1200
TZNAME:NZST
DTSTART:20260404T140000
END:STANDARD
BEGIN:DAYLIGHT
TZOFFSETFROM:+1200
TZOFFSETTO:+1300
TZNAME:NZDT
DTSTART:20260926T140000
END:DAYLIGHT
END:VTIMEZONE
BEGIN:VEVENT
DTSTART;TZID=Pacific/Auckland:20250315T143000
DTEND;TZID=Pacific/Auckland:20250315T170000
DTSTAMP:20260423T133952
CREATED:20250214T014549Z
LAST-MODIFIED:20250214T021258Z
UID:10001120-1742049000-1742058000@www.nelsonhospice.org.nz
SUMMARY:Steph Collett - NBS Dancing for a Cause - High Tea
DESCRIPTION:High Tea on Saturday 15th March at 2 30pm. The tickets cost $50.00 and include a delicious high tea and a glass of bubbles  with all money raised going to the Nelson Tasman Hospice.\n\n\n\nThis will be a fantastic BOUJEE afternoon so make sure you get your tickets through\nSteph Collett – NBS Dancing for a Cause 2025 or Alioke Eatery.\n\n\n\nThis event is kindly sponsored by Jennian Homes Nelson Bays.
URL:https://www.nelsonhospice.org.nz/event/steph-collett-nbs-dancing-for-a-cause-high-tea/
LOCATION:Alioke\, 4A Central Park Lane\, Richmond\, 7020\, New Zealand
CATEGORIES:Fundraising
ATTACH;FMTTYPE=image/jpeg:https://www.nelsonhospice.org.nz/wp-content/uploads/sites/329/2025/02/476800193_122133795788481745_6171446989358943439_n.jpg
END:VEVENT
BEGIN:VEVENT
DTSTART;TZID=Pacific/Auckland:20250320T173000
DTEND;TZID=Pacific/Auckland:20250320T193000
DTSTAMP:20260423T133952
CREATED:20250313T201123Z
LAST-MODIFIED:20250313T201153Z
UID:10001125-1742491800-1742499000@www.nelsonhospice.org.nz
SUMMARY:Blair Cameron - NBS Dancing for a Cause - Fashion for a Cause
DESCRIPTION:Bubbly & canapes and a preview of Autumn Fashion from Karen Jordan Style & Nelson Menswear. \nSupporting Blair Cameron & Hazel Black to raise funds for Nelson Tasman Hospice and NBS Dancing for a Cause \nTickets $100 incl Goodie Bag \nGet your tickets from Karen Jordan Style or Nelson Tailors Menswear
URL:https://www.nelsonhospice.org.nz/event/blair-cameron-nbs-dancing-for-a-cause-fashion-for-a-cause/
LOCATION:Nelson Tailors Menswear\, 151 Trafalgar Street\, Nelson\, Nelson/Malborough\, 7010\, New Zealand
CATEGORIES:Fundraising
ATTACH;FMTTYPE=image/jpeg:https://www.nelsonhospice.org.nz/wp-content/uploads/sites/329/2025/03/Fashion-for-a-Cause.jpg
END:VEVENT
BEGIN:VEVENT
DTSTART;TZID=Pacific/Auckland:20250327T170000
DTEND;TZID=Pacific/Auckland:20250327T200000
DTSTAMP:20260423T133952
CREATED:20250313T230549Z
LAST-MODIFIED:20250313T230752Z
UID:10001127-1743094800-1743105600@www.nelsonhospice.org.nz
SUMMARY:Steph Collett - NBS Dancing for a Cause - Stacey VIP Evening - Wear it 3 ways
DESCRIPTION:An evening not to miss! Be inspired as the team showcase creative ideas to get the most out of your wardrobe this season.\n\n Every ticket is a chance to win two tickets to the NBS Dancing for a Cause event.\nTickets $20 | Tickets are limited | All profits to Nelson/Tasman Hospice\n Enjoy a glass of bubbles and nibbles on arrival Spot prizes through the evening Every $50 spent on the night gives you a chance to win a $500 Stacey wardrobe makeover!\nAt Stacey\, 249 Queen Street. Richmond\n5pm – 8pm\n\nProudly supporting Steph Collett\, NBS Dancing for a Cause and Nelson/Tasman Hospice\n\nOur VIP evenings are a fun night out\, so get your gals together and see you there.\nThe Stacey team
URL:https://www.nelsonhospice.org.nz/event/steph-collett-nbs-dancing-for-a-cause-stacey-vip-evening-wear-it-3-ways/
LOCATION:Stacey\, 249 Queen Street\, Richmond\, 7020\, New Zealand
CATEGORIES:Fundraising
ATTACH;FMTTYPE=image/jpeg:https://www.nelsonhospice.org.nz/wp-content/uploads/sites/329/2025/03/Wear-it-3-ways-scaled.jpg
END:VEVENT
BEGIN:VEVENT
DTSTART;TZID=Pacific/Auckland:20250328T180000
DTEND;TZID=Pacific/Auckland:20250328T233000
DTSTAMP:20260423T133952
CREATED:20250220T194433Z
LAST-MODIFIED:20250313T231910Z
UID:10001124-1743184800-1743204600@www.nelsonhospice.org.nz
SUMMARY:Rhys Black - NBS Dancing for a Cause - Risky Quizness
DESCRIPTION:Another event to put in the diary!\n\nRisky Quizness – A quiz night that has a professional chefs creating culinary masterpieces\, a handsome looking MC asking some thought provoking questions and the beverages allowing you to really get stuck in to bidding hard on the silent auction items!\n\nThe kicker? It’s Hospice Opshop dress code with potential of prizes – pending Judges approval!\n\nMake sure you get your tickets to this event – Get in contact with Rhys on 022 324 0273 or flick him a private message
URL:https://www.nelsonhospice.org.nz/event/risky-quizness/
LOCATION:Wakefield Village Hall\, 10 Whitby Way\, Wakefield\, 7025
CATEGORIES:Fundraising
ATTACH;FMTTYPE=image/jpeg:https://www.nelsonhospice.org.nz/wp-content/uploads/sites/329/2025/02/480693737_122143555142554362_3498485577925018843_n.jpg
END:VEVENT
END:VCALENDAR