BEGIN:VCALENDAR
VERSION:2.0
PRODID:-//Nelson Tasman Hospice - ECPv6.15.20//NONSGML v1.0//EN
CALSCALE:GREGORIAN
METHOD:PUBLISH
X-WR-CALNAME:Nelson Tasman Hospice
X-ORIGINAL-URL:https://www.nelsonhospice.org.nz
X-WR-CALDESC:Events for Nelson Tasman Hospice
REFRESH-INTERVAL;VALUE=DURATION:PT1H
X-Robots-Tag:noindex
X-PUBLISHED-TTL:PT1H
BEGIN:VTIMEZONE
TZID:Pacific/Auckland
BEGIN:STANDARD
TZOFFSETFROM:+1300
TZOFFSETTO:+1200
TZNAME:NZST
DTSTART:20230401T140000
END:STANDARD
BEGIN:DAYLIGHT
TZOFFSETFROM:+1200
TZOFFSETTO:+1300
TZNAME:NZDT
DTSTART:20230923T140000
END:DAYLIGHT
BEGIN:STANDARD
TZOFFSETFROM:+1300
TZOFFSETTO:+1200
TZNAME:NZST
DTSTART:20240406T140000
END:STANDARD
BEGIN:DAYLIGHT
TZOFFSETFROM:+1200
TZOFFSETTO:+1300
TZNAME:NZDT
DTSTART:20240928T140000
END:DAYLIGHT
BEGIN:STANDARD
TZOFFSETFROM:+1300
TZOFFSETTO:+1200
TZNAME:NZST
DTSTART:20250405T140000
END:STANDARD
BEGIN:DAYLIGHT
TZOFFSETFROM:+1200
TZOFFSETTO:+1300
TZNAME:NZDT
DTSTART:20250927T140000
END:DAYLIGHT
END:VTIMEZONE
BEGIN:VEVENT
DTSTART;VALUE=DATE:20241019
DTEND;VALUE=DATE:20241020
DTSTAMP:20260426T044712
CREATED:20231220T214846Z
LAST-MODIFIED:20240301T015542Z
UID:10000229-1729296000-1729382399@www.nelsonhospice.org.nz
SUMMARY:Mowsworth Rampage
DESCRIPTION:Saturday 23 March 2024 – Join us on the Mowsworth Rampage Challenge! \n\n\nCancer is NOT fun. But this Ride-on Lawnmower challenge will be.\nWe’re calling on people to join with Cancer Society Nelson Tasman and Nelson Tasman Hospice as we take on this challenge as a tribute to support our local people in our care.\nIn 1 day\, you will cover 86km… on a Ride-on Lawnmower (minus the blades).\nYES! That is your challenge. To conquer the Molesworth track (from Molesworth Station to Hanmer Springs.)\nYes\, it will be a long hot\, dusty slog. Yes\, you will be riding a lawn mower with no guts. Yes\, you will laugh and curse and think you could walk faster than this (but you can’t).\nYes\, it will be hard\, but this challenge is nothing compared to what cancer patients have to go through every day.\nJoin Cancer Society Nelson Tasman and Nelson Tasman Hospice and ride with us in the Mowsworth Rampage to raise money to help support our locals.\nThe Mowsworth Rampage is the coolest\, longest\, hardest and most gruelling test of endurance on a ride-on lawnmower that we know of. Are you up for the challenge? It’s a 1-day Road-trip to Raise Money for Cancer Society Nelson Tasman and Nelson Tasman Hospice. It’s not for the faint-hearted. \nDress up\, decorate your ride-on lawnmower\, and join us at the starting line! It’s going to be a great day out for a good cause. See you there! \n\nRegister here!
URL:https://www.nelsonhospice.org.nz/event/17561/
LOCATION:Molesworth Cobb Cottage Gate\, Acheron Road\, Blenheim\, Marlborough\, 7274\, New Zealand
CATEGORIES:Fundraising
ATTACH;FMTTYPE=image/png:https://www.nelsonhospice.org.nz/wp-content/uploads/sites/329/2023/12/Mowsworth-Facebook-cover-1.png
ORGANIZER;CN="Richmond Glass Service":MAILTO:stuart@richmondglass.co.nz
GEO:-42.08511648;173.27020624
X-APPLE-STRUCTURED-LOCATION;VALUE=URI;X-ADDRESS=Molesworth Cobb Cottage Gate Acheron Road Blenheim Marlborough 7274 New Zealand;X-APPLE-RADIUS=500;X-TITLE=Acheron Road:geo:173.27020624,-42.08511648
END:VEVENT
BEGIN:VEVENT
DTSTART;TZID=Pacific/Auckland:20241022T170000
DTEND;TZID=Pacific/Auckland:20241022T203000
DTSTAMP:20260426T044712
CREATED:20240702T234840Z
LAST-MODIFIED:20240702T234842Z
UID:10001072-1729616400-1729629000@www.nelsonhospice.org.nz
SUMMARY:Housie for Hospice
DESCRIPTION:Fundraiser for Hospice \n$20 per ticket includes first card \nLive music & drinks deals & great prizes! \n6pm first game starts \nCome along and have fun! \nPre-book your ticket today: https://events.humanitix.com/housie-for-hospice-bingo-night\nComing as a group? Contact two Thumbs Brewery to reserve your spot: 03 777 0130
URL:https://www.nelsonhospice.org.nz/event/housie-for-hospice-2/
LOCATION:Two Thumb Brewing Co. Nelson\, 32c New Street\, Nelson\, 7010\, New Zealand
CATEGORIES:Fundraising
ATTACH;FMTTYPE=image/jpeg:https://www.nelsonhospice.org.nz/wp-content/uploads/sites/329/2024/07/Housie-for-Hospice-scaled.jpg
END:VEVENT
END:VCALENDAR