BEGIN:VCALENDAR
VERSION:2.0
PRODID:-//Nelson Tasman Hospice - ECPv6.15.20//NONSGML v1.0//EN
CALSCALE:GREGORIAN
METHOD:PUBLISH
X-WR-CALNAME:Nelson Tasman Hospice
X-ORIGINAL-URL:https://www.nelsonhospice.org.nz
X-WR-CALDESC:Events for Nelson Tasman Hospice
REFRESH-INTERVAL;VALUE=DURATION:PT1H
X-Robots-Tag:noindex
X-PUBLISHED-TTL:PT1H
BEGIN:VTIMEZONE
TZID:Pacific/Auckland
BEGIN:STANDARD
TZOFFSETFROM:+1300
TZOFFSETTO:+1200
TZNAME:NZST
DTSTART:20230401T140000
END:STANDARD
BEGIN:DAYLIGHT
TZOFFSETFROM:+1200
TZOFFSETTO:+1300
TZNAME:NZDT
DTSTART:20230923T140000
END:DAYLIGHT
BEGIN:STANDARD
TZOFFSETFROM:+1300
TZOFFSETTO:+1200
TZNAME:NZST
DTSTART:20240406T140000
END:STANDARD
BEGIN:DAYLIGHT
TZOFFSETFROM:+1200
TZOFFSETTO:+1300
TZNAME:NZDT
DTSTART:20240928T140000
END:DAYLIGHT
BEGIN:STANDARD
TZOFFSETFROM:+1300
TZOFFSETTO:+1200
TZNAME:NZST
DTSTART:20250405T140000
END:STANDARD
BEGIN:DAYLIGHT
TZOFFSETFROM:+1200
TZOFFSETTO:+1300
TZNAME:NZDT
DTSTART:20250927T140000
END:DAYLIGHT
END:VTIMEZONE
BEGIN:VEVENT
DTSTART;TZID=Pacific/Auckland:20240820T170000
DTEND;TZID=Pacific/Auckland:20240820T203000
DTSTAMP:20260426T095702
CREATED:20240702T234003Z
LAST-MODIFIED:20240702T234623Z
UID:10001070-1724173200-1724185800@www.nelsonhospice.org.nz
SUMMARY:Housie for Hospice
DESCRIPTION:Fundraiser for Hospice \n$20 per ticket includes first card \nLive music & drinks deals & great prizes! \n6pm first game starts \nCome along and have fun! \nPre-book your ticket today: https://events.humanitix.com/housie-for-hospice-bingo-night\nComing as a group? Contact two Thumbs Brewery to reserve your spot: 03 777 0130
URL:https://www.nelsonhospice.org.nz/event/housie-for-hospice/2024-08-20/
LOCATION:Two Thumb Brewing Co. Nelson\, 32c New Street\, Nelson\, 7010\, New Zealand
CATEGORIES:Fundraising
ATTACH;FMTTYPE=image/jpeg:https://www.nelsonhospice.org.nz/wp-content/uploads/sites/329/2024/07/Housie-for-Hospice-scaled.jpg
END:VEVENT
BEGIN:VEVENT
DTSTART;TZID=Pacific/Auckland:20240831T083000
DTEND;TZID=Pacific/Auckland:20240831T120000
DTSTAMP:20260426T095702
CREATED:20240813T025821Z
LAST-MODIFIED:20240813T025821Z
UID:10001087-1725093000-1725105600@www.nelsonhospice.org.nz
SUMMARY:Richmond Glass Mowsworth Meet-and-Greet
DESCRIPTION:Come on down to the Nelson Classic Car Museum from 8:30am – 12:00pm to help raise awareness for Cancer Society Nelson Tasman and Nelson Tasman Hospice.\n\nFor the public –Meet and chat with the Richmond Glass Mowsworth Rampage entrants and crews. Check out some awesome ride on mowers and show your support for these riders.\n\nRiders –Bring your ride on\, ready or not. Chat with the public and give them some insight into the reasons why’s you’ve decided to take part and of course\, show off your ride!There will be donation buckets on site for collecting.\nMeet in the Carpark and catch up with some of the other mad entrants prepping for this event.\nSee you all there!
URL:https://www.nelsonhospice.org.nz/event/richmond-glass-mowsworth-meet-and-greet/
LOCATION:Nelson Classic Car Museum\, 1 Cadillac Way\, Nelson\, Annesbrook\, 7011\, New Zealand
CATEGORIES:Fundraising
ATTACH;FMTTYPE=image/png:https://www.nelsonhospice.org.nz/wp-content/uploads/sites/329/2024/08/Mowsworth-Meet-and-Greet-Banner.png
ORGANIZER;CN="Richmond Glass Service":MAILTO:stuart@richmondglass.co.nz
END:VEVENT
END:VCALENDAR