BEGIN:VCALENDAR
VERSION:2.0
PRODID:-//Nelson Tasman Hospice - ECPv6.15.20//NONSGML v1.0//EN
CALSCALE:GREGORIAN
METHOD:PUBLISH
X-WR-CALNAME:Nelson Tasman Hospice
X-ORIGINAL-URL:https://www.nelsonhospice.org.nz
X-WR-CALDESC:Events for Nelson Tasman Hospice
REFRESH-INTERVAL;VALUE=DURATION:PT1H
X-Robots-Tag:noindex
X-PUBLISHED-TTL:PT1H
BEGIN:VTIMEZONE
TZID:Pacific/Auckland
BEGIN:STANDARD
TZOFFSETFROM:+1300
TZOFFSETTO:+1200
TZNAME:NZST
DTSTART:20250405T140000
END:STANDARD
BEGIN:DAYLIGHT
TZOFFSETFROM:+1200
TZOFFSETTO:+1300
TZNAME:NZDT
DTSTART:20250927T140000
END:DAYLIGHT
BEGIN:STANDARD
TZOFFSETFROM:+1300
TZOFFSETTO:+1200
TZNAME:NZST
DTSTART:20260404T140000
END:STANDARD
BEGIN:DAYLIGHT
TZOFFSETFROM:+1200
TZOFFSETTO:+1300
TZNAME:NZDT
DTSTART:20260926T140000
END:DAYLIGHT
BEGIN:STANDARD
TZOFFSETFROM:+1300
TZOFFSETTO:+1200
TZNAME:NZST
DTSTART:20270403T140000
END:STANDARD
BEGIN:DAYLIGHT
TZOFFSETFROM:+1200
TZOFFSETTO:+1300
TZNAME:NZDT
DTSTART:20270925T140000
END:DAYLIGHT
END:VTIMEZONE
BEGIN:VEVENT
DTSTART;TZID=Pacific/Auckland:20260501T000000
DTEND;TZID=Pacific/Auckland:20260531T233000
DTSTAMP:20260425T011604
CREATED:20250905T024419Z
LAST-MODIFIED:20250905T024419Z
UID:10001142-1777593600-1780270200@www.nelsonhospice.org.nz
SUMMARY:Hands Up For Hospice 2026
DESCRIPTION:Put your Hands Up for Hospice this May! By putting your hands up to help\, you’ll help us provide free specialist palliative care to around 210 patients in our community each month. \nHeave\, Host\, Raise or Host – you choose how to put your hands up! \nRegister your interest on our website now to be kept in the loop close to the time. https://www.handsupforhospice.org.nz/
URL:https://www.nelsonhospice.org.nz/event/hands-up-for-hospice-2026/
ATTACH;FMTTYPE=image/jpeg:https://www.nelsonhospice.org.nz/wp-content/uploads/sites/329/2025/09/HU4H-E-Newsletter-Banner-1170-x-504-px.jpg
ORGANIZER;CN="Nelson Tasman Hospice Team":MAILTO:fundraising@nelsonhospice.org.nz
END:VEVENT
BEGIN:VEVENT
DTSTART;TZID=Pacific/Auckland:20260520T190000
DTEND;TZID=Pacific/Auckland:20260520T220000
DTSTAMP:20260425T011604
CREATED:20260324T021746Z
LAST-MODIFIED:20260415T220424Z
UID:10001187-1779303600-1779314400@www.nelsonhospice.org.nz
SUMMARY:Quiz Night - Sprig + Fern Brightwater
DESCRIPTION:[vc_row][vc_column][vc_column_text css=””]\nWednesday night pub quiz at Sprig + Fern Brightwater\, fundraising for Nelson Tasman Hospice!\n\nCome along – starts at 7pm\n20th May 2026\n\nQuiz entry is $5 per person\n\nBookings recommended – contact Sprig + Fern Brightwater\nLots of great raffle prizes!\n[/vc_column_text][/vc_column][/vc_row]
URL:https://www.nelsonhospice.org.nz/event/quiz-night-sprig-fern-brightwater/
LOCATION:Sprig + Fern Brightwater\, 54 Ellis Street\, Brightwater\, Nelson\, 7022\, New Zealand
CATEGORIES:Fundraising
ATTACH;FMTTYPE=image/png:https://www.nelsonhospice.org.nz/wp-content/uploads/sites/329/2026/03/Sprig-Brightwater-Quiz.png
END:VEVENT
END:VCALENDAR