BEGIN:VCALENDAR
VERSION:2.0
PRODID:-//Nelson Tasman Hospice - ECPv6.15.20//NONSGML v1.0//EN
CALSCALE:GREGORIAN
METHOD:PUBLISH
X-WR-CALNAME:Nelson Tasman Hospice
X-ORIGINAL-URL:https://www.nelsonhospice.org.nz
X-WR-CALDESC:Events for Nelson Tasman Hospice
REFRESH-INTERVAL;VALUE=DURATION:PT1H
X-Robots-Tag:noindex
X-PUBLISHED-TTL:PT1H
BEGIN:VTIMEZONE
TZID:Pacific/Auckland
BEGIN:STANDARD
TZOFFSETFROM:+1300
TZOFFSETTO:+1200
TZNAME:NZST
DTSTART:20250405T140000
END:STANDARD
BEGIN:DAYLIGHT
TZOFFSETFROM:+1200
TZOFFSETTO:+1300
TZNAME:NZDT
DTSTART:20250927T140000
END:DAYLIGHT
BEGIN:STANDARD
TZOFFSETFROM:+1300
TZOFFSETTO:+1200
TZNAME:NZST
DTSTART:20260404T140000
END:STANDARD
BEGIN:DAYLIGHT
TZOFFSETFROM:+1200
TZOFFSETTO:+1300
TZNAME:NZDT
DTSTART:20260926T140000
END:DAYLIGHT
BEGIN:STANDARD
TZOFFSETFROM:+1300
TZOFFSETTO:+1200
TZNAME:NZST
DTSTART:20270403T140000
END:STANDARD
BEGIN:DAYLIGHT
TZOFFSETFROM:+1200
TZOFFSETTO:+1300
TZNAME:NZDT
DTSTART:20270925T140000
END:DAYLIGHT
END:VTIMEZONE
BEGIN:VEVENT
DTSTART;TZID=Pacific/Auckland:20260325T160000
DTEND;TZID=Pacific/Auckland:20260325T171500
DTSTAMP:20260424T223355
CREATED:20260226T034020Z
LAST-MODIFIED:20260226T034044Z
UID:10001178-1774454400-1774458900@www.nelsonhospice.org.nz
SUMMARY:Clinical Skills Workshop: Advance Care Planning Wednesday 25 March 2026
DESCRIPTION:The clinical skills series is for Health Care Professionals and for care workers caring for clients either in Aged Residential Care\, a General Hospital or community setting who have palliative care needs. \nThe education sessions provide learning which maintains and enhances participants palliative care knowledge\, skills and practice. \nThe aim of this presentation is to: \n\n\n\nRecognise the value of having an ACP\nIncrease understanding of ACP process\nIdentifying the barriers to ACP\nIntegrating ACP into clinical practice in different settings\nUnderstand Advanced Directive documentation\nUnderstand the process sharing an ACP with health providers\n\n\n\nDate: Wednesday 25 March 2026 \nTime: 1600 – 1715 \nCost: No charge \nPresenter: Chris Dunn Clinical Nurse Educator\, Nelson Tasman Hospice & Suss Walding Registered Nurse\, Nelson Tasman Hospice \nVenue: Nelson Tasman Hospice\, 331 Suffolk Road\, Stoke\, Nelson \nRegister: Click here to register via Eventbrite to attend onsite \n\nThis workshop is also offered as a virtual session:  Register for the virtual session: Click here\nNB: To participate virtually\, you will need to have Microsoft TEAMS on your device\n\nFor more information contact the Nelson Tasman Hospice Education Team: \nE: Education Administrator Barb Thomas: education@nelsonhospice.org.nz \nPhone: (03) 546 3950
URL:https://www.nelsonhospice.org.nz/event/clinical-skills-workshop-advance-care-planning-wednesday-25-march-2026/
LOCATION:Nelson Tasman Hospice\, 331 Suffolk Road\, Nelson\, 7011\, New Zealand
CATEGORIES:Education
ATTACH;FMTTYPE=image/jpeg:https://www.nelsonhospice.org.nz/wp-content/uploads/sites/329/2026/02/advance-care-planing.jpg
ORGANIZER;CN="Nelson Tasman Hospice Education Team":MAILTO:education@nelsonhospice.org.nz
END:VEVENT
END:VCALENDAR