BEGIN:VCALENDAR
VERSION:2.0
PRODID:-//Nelson Tasman Hospice - ECPv6.15.20//NONSGML v1.0//EN
CALSCALE:GREGORIAN
METHOD:PUBLISH
X-WR-CALNAME:Nelson Tasman Hospice
X-ORIGINAL-URL:https://www.nelsonhospice.org.nz
X-WR-CALDESC:Events for Nelson Tasman Hospice
REFRESH-INTERVAL;VALUE=DURATION:PT1H
X-Robots-Tag:noindex
X-PUBLISHED-TTL:PT1H
BEGIN:VTIMEZONE
TZID:Pacific/Auckland
BEGIN:STANDARD
TZOFFSETFROM:+1300
TZOFFSETTO:+1200
TZNAME:NZST
DTSTART:20250405T140000
END:STANDARD
BEGIN:DAYLIGHT
TZOFFSETFROM:+1200
TZOFFSETTO:+1300
TZNAME:NZDT
DTSTART:20250927T140000
END:DAYLIGHT
BEGIN:STANDARD
TZOFFSETFROM:+1300
TZOFFSETTO:+1200
TZNAME:NZST
DTSTART:20260404T140000
END:STANDARD
BEGIN:DAYLIGHT
TZOFFSETFROM:+1200
TZOFFSETTO:+1300
TZNAME:NZDT
DTSTART:20260926T140000
END:DAYLIGHT
BEGIN:STANDARD
TZOFFSETFROM:+1300
TZOFFSETTO:+1200
TZNAME:NZST
DTSTART:20270403T140000
END:STANDARD
BEGIN:DAYLIGHT
TZOFFSETFROM:+1200
TZOFFSETTO:+1300
TZNAME:NZDT
DTSTART:20270925T140000
END:DAYLIGHT
END:VTIMEZONE
BEGIN:VEVENT
DTSTART;TZID=Pacific/Auckland:20260319T083000
DTEND;TZID=Pacific/Auckland:20260319T163000
DTSTAMP:20260425T033819
CREATED:20260116T022221Z
LAST-MODIFIED:20260116T022245Z
UID:10001158-1773909000-1773937800@www.nelsonhospice.org.nz
SUMMARY:Fundamentals of Palliative Care Online Modules & Workshop
DESCRIPTION:This is a free blended (online and face to face) programme consisting of a series of four learning modules and a one-day workshop designed for healthcare workers both registered and non-registered\, who are caring for people with palliative care needs. The programme provides the learner with a broad overview of how to provide palliative care for people with cancer\, chronic illness\, dementia and frailty. \nTo enrol for the Fundamentals of Palliative Care programme online modules visit Knowledge Hub at: https://knowledgehub.hospice.org.nz/ \nConfirmation of your registration for the online programme will be approved during office hours only Monday to Friday 0800 – 1630 hrs. and not on statutory holidays. \nTo complete the programme\, you need to attend a one-day workshop “Fundamentals of Palliative Care “Please Note: You must complete the first two online modules before registering for the workshop. Bookings are required for workshop attendance. If you complete all the modules before the workshop you will be awarded the full certificate on the day. \n\nThe Essence of Palliative Care\nThe Palliative Approach\n\nAnd then complete the remaining modules in any order of your choice \n3. Managing Pain & Long-term Illnesses \n4. Care & Support at the End of Life. \nFor an overview on the Fundamentals of Palliative Care programme click on the link: Fundamentals of Palliative Care Programme Overview \n*(Registration for the workshop is essential due to limited numbers) \nDate: Thursday 19 March 2026 \nTime: 0830 -1630 \nCost: No charge (includes morning tea\, participants are to bring their own lunch) \nRegister: Click here to register via Eventbrite \nPresenters: Chris Dunn & Suss Walding Nelson Tasman Hospice Nurse Educators \nVenue: Nelson Tasman Hospice 331 Suffolk Road\, Stoke\, Nelson. \nEnquiries: Email: education@nelsonhospice.org.nz or phone 03 546 3950 Barb Thomas Nelson Tasman Hospice Education Admin
URL:https://www.nelsonhospice.org.nz/event/fundamentals-of-palliative-care-online-modules-workshop/
LOCATION:Nelson Tasman Hospice\, 331 Suffolk Road\, Nelson\, 7011\, New Zealand
CATEGORIES:Education
ATTACH;FMTTYPE=image/jpeg:https://www.nelsonhospice.org.nz/wp-content/uploads/sites/329/2026/01/Knowledge-Hub-1.jpg
ORGANIZER;CN="Nelson Tasman Hospice Education Team":MAILTO:education@nelsonhospice.org.nz
END:VEVENT
END:VCALENDAR