BEGIN:VCALENDAR
VERSION:2.0
PRODID:-//Nelson Tasman Hospice - ECPv6.15.20//NONSGML v1.0//EN
CALSCALE:GREGORIAN
METHOD:PUBLISH
X-WR-CALNAME:Nelson Tasman Hospice
X-ORIGINAL-URL:https://www.nelsonhospice.org.nz
X-WR-CALDESC:Events for Nelson Tasman Hospice
REFRESH-INTERVAL;VALUE=DURATION:PT1H
X-Robots-Tag:noindex
X-PUBLISHED-TTL:PT1H
BEGIN:VTIMEZONE
TZID:Pacific/Auckland
BEGIN:STANDARD
TZOFFSETFROM:+1300
TZOFFSETTO:+1200
TZNAME:NZST
DTSTART:20250405T140000
END:STANDARD
BEGIN:DAYLIGHT
TZOFFSETFROM:+1200
TZOFFSETTO:+1300
TZNAME:NZDT
DTSTART:20250927T140000
END:DAYLIGHT
BEGIN:STANDARD
TZOFFSETFROM:+1300
TZOFFSETTO:+1200
TZNAME:NZST
DTSTART:20260404T140000
END:STANDARD
BEGIN:DAYLIGHT
TZOFFSETFROM:+1200
TZOFFSETTO:+1300
TZNAME:NZDT
DTSTART:20260926T140000
END:DAYLIGHT
BEGIN:STANDARD
TZOFFSETFROM:+1300
TZOFFSETTO:+1200
TZNAME:NZST
DTSTART:20270403T140000
END:STANDARD
BEGIN:DAYLIGHT
TZOFFSETFROM:+1200
TZOFFSETTO:+1300
TZNAME:NZDT
DTSTART:20270925T140000
END:DAYLIGHT
END:VTIMEZONE
BEGIN:VEVENT
DTSTART;TZID=Pacific/Auckland:20260311T130000
DTEND;TZID=Pacific/Auckland:20260311T150000
DTSTAMP:20260425T033838
CREATED:20260115T223159Z
LAST-MODIFIED:20260115T225532Z
UID:10001156-1773234000-1773241200@www.nelsonhospice.org.nz
SUMMARY:Syringe Driver Workshop for ARC RN's/EN's/ DN's: Wednesday 11 March 2026
DESCRIPTION:The programme assists Registered Nurses (RNs) and Enrolled Nurses (ENs) working in Aged Residential Care (ARC) and District Nursing (DNs) to obtain the skills and knowledge required to manage a syringe driver in their work setting. * A pre programme workbook will be emailed to participants prior to the workshop. \nSuccessful completion of a written test is required for certification. \n\nPlease note: This workshop is not suitable for Te Whatu Ora Nelson Marlborough RN’s as they use a different learning module – See other listings on Eventbrite or Contact the hospice on 03 546 3950 for dates or email: education@nelsonhospice.org.nz\n\nWorkshops are facilitated on site at Nelson Tasman Hospice or as advertised off site. \nTarget Audience: Aged Residential Care Registered Nurses\, District Nurses\, Enrolled Nurses subject to scope of practice \nDate: Wednesday 11 March 2026 \nTime: 1300 – 1500 (Workshop starts promptly. Please arrive 10 minutes early to allow time to sign in). \nCost: No charge \nLimited attendees: Max 10 people per session\, registration is essential \nRegister:  Click here to register via Eventbrite \nFacilitator: Chris Dunn Clinical Nurse Educator Nelson Tasman Hospice \nVenue: Nelson Tasman Hospice\, 331 Suffolk Road\, Stoke\, Nelson \nPhone: 03 546 3950 \nEmail: education@nelsonhospice.org.nz
URL:https://www.nelsonhospice.org.nz/event/syringe-driver-workshop-for-arc-rns-ens-dns-wednesday-11-march-2026/
LOCATION:Nelson Tasman Hospice\, 331 Suffolk Road\, Nelson\, 7011\, New Zealand
CATEGORIES:Education
ATTACH;FMTTYPE=image/jpeg:https://www.nelsonhospice.org.nz/wp-content/uploads/sites/329/2023/12/Syringe-driver-picture.jpg
ORGANIZER;CN="Nelson Tasman Hospice Education Team":MAILTO:education@nelsonhospice.org.nz
END:VEVENT
END:VCALENDAR