BEGIN:VCALENDAR
VERSION:2.0
PRODID:-//Nelson Tasman Hospice - ECPv6.15.20//NONSGML v1.0//EN
CALSCALE:GREGORIAN
METHOD:PUBLISH
X-WR-CALNAME:Nelson Tasman Hospice
X-ORIGINAL-URL:https://www.nelsonhospice.org.nz
X-WR-CALDESC:Events for Nelson Tasman Hospice
REFRESH-INTERVAL;VALUE=DURATION:PT1H
X-Robots-Tag:noindex
X-PUBLISHED-TTL:PT1H
BEGIN:VTIMEZONE
TZID:Pacific/Auckland
BEGIN:STANDARD
TZOFFSETFROM:+1300
TZOFFSETTO:+1200
TZNAME:NZST
DTSTART:20240406T140000
END:STANDARD
BEGIN:DAYLIGHT
TZOFFSETFROM:+1200
TZOFFSETTO:+1300
TZNAME:NZDT
DTSTART:20240928T140000
END:DAYLIGHT
BEGIN:STANDARD
TZOFFSETFROM:+1300
TZOFFSETTO:+1200
TZNAME:NZST
DTSTART:20250405T140000
END:STANDARD
BEGIN:DAYLIGHT
TZOFFSETFROM:+1200
TZOFFSETTO:+1300
TZNAME:NZDT
DTSTART:20250927T140000
END:DAYLIGHT
BEGIN:STANDARD
TZOFFSETFROM:+1300
TZOFFSETTO:+1200
TZNAME:NZST
DTSTART:20260404T140000
END:STANDARD
BEGIN:DAYLIGHT
TZOFFSETFROM:+1200
TZOFFSETTO:+1300
TZNAME:NZDT
DTSTART:20260926T140000
END:DAYLIGHT
END:VTIMEZONE
BEGIN:VEVENT
DTSTART;TZID=Pacific/Auckland:20250905T090000
DTEND;TZID=Pacific/Auckland:20250905T123000
DTSTAMP:20260426T062759
CREATED:20250523T014329Z
LAST-MODIFIED:20250716T021647Z
UID:10001134-1757062800-1757075400@www.nelsonhospice.org.nz
SUMMARY:Dying to Know about Dying Matters?
DESCRIPTION:Please note\, this is a FREE workshop available to the public and is not designed for health professionals to attend. \nMany people find it difficult to talk about dying\, yet dying is an important stage of life and is inevitable. \nWe plan for the birth of a child\, yet when it comes to the end of life\, we don’t often want to think \, or talk about it. \nCome along to our workshop and find out more about dying matters\, how an Advance Care Planning (ACP)can benefit you and your family/whānau and what to expect at the end of life. \nHaving a plan outlines our care preferences for the future. Having an Advance Care Plan (ACP) that aligns with our beliefs and values\, is a gift that we can give to our family / whānau. \nWe will explore: \n\nWhy is it hard to talk about death and dying?\nWhat to expect when someone is dying\nSupports available\nAdvance care planning processes\n\nDate: Friday 5 September 2025 \nTime: 9.00 am – 12.30 pm \nCost: Free \nLimited attendees: Registration is essential \nWho can attend?: General Public (Workshop is not designed for Health Professionals) \nFacilitators: Nelson Tasman Hospice \nVenue: Nelson Tasman Hospice\, 331 Suffolk Road\, Stoke\, Nelson
URL:https://www.nelsonhospice.org.nz/event/dying-to-know-about-dying-matters-2/
LOCATION:Nelson Tasman Hospice\, 331 Suffolk Road\, Nelson\, 7011\, New Zealand
CATEGORIES:Education
ATTACH;FMTTYPE=image/jpeg:https://www.nelsonhospice.org.nz/wp-content/uploads/sites/329/2025/05/Dying-matters-NTH.jpg
ORGANIZER;CN="Nelson Tasman Hospice Education Team":MAILTO:education@nelsonhospice.org.nz
END:VEVENT
END:VCALENDAR