BEGIN:VCALENDAR
VERSION:2.0
PRODID:-//Nelson Tasman Hospice - ECPv6.15.18//NONSGML v1.0//EN
CALSCALE:GREGORIAN
METHOD:PUBLISH
X-WR-CALNAME:Nelson Tasman Hospice
X-ORIGINAL-URL:https://www.nelsonhospice.org.nz
X-WR-CALDESC:Events for Nelson Tasman Hospice
REFRESH-INTERVAL;VALUE=DURATION:PT1H
X-Robots-Tag:noindex
X-PUBLISHED-TTL:PT1H
BEGIN:VTIMEZONE
TZID:Pacific/Auckland
BEGIN:STANDARD
TZOFFSETFROM:+1300
TZOFFSETTO:+1200
TZNAME:NZST
DTSTART:20230401T140000
END:STANDARD
BEGIN:DAYLIGHT
TZOFFSETFROM:+1200
TZOFFSETTO:+1300
TZNAME:NZDT
DTSTART:20230923T140000
END:DAYLIGHT
BEGIN:STANDARD
TZOFFSETFROM:+1300
TZOFFSETTO:+1200
TZNAME:NZST
DTSTART:20240406T140000
END:STANDARD
BEGIN:DAYLIGHT
TZOFFSETFROM:+1200
TZOFFSETTO:+1300
TZNAME:NZDT
DTSTART:20240928T140000
END:DAYLIGHT
BEGIN:STANDARD
TZOFFSETFROM:+1300
TZOFFSETTO:+1200
TZNAME:NZST
DTSTART:20250405T140000
END:STANDARD
BEGIN:DAYLIGHT
TZOFFSETFROM:+1200
TZOFFSETTO:+1300
TZNAME:NZDT
DTSTART:20250927T140000
END:DAYLIGHT
END:VTIMEZONE
BEGIN:VEVENT
DTSTART;TZID=Pacific/Auckland:20240616T133000
DTEND;TZID=Pacific/Auckland:20240616T160000
DTSTAMP:20260422T010127
CREATED:20240505T210102Z
LAST-MODIFIED:20240505T210102Z
UID:10000986-1718544600-1718553600@www.nelsonhospice.org.nz
SUMMARY:New Zealand Doctor's Orchestra fundraising concert
DESCRIPTION:The New Zealand Doctors’ Orchestra is delighted to return to Nelson\, performing on Sunday 16 June 1.30pm\, at the Nelson Centre of Musical Arts. The orchestra\, made up of doctors and medical students from around New Zealand and conducted by José Aparicio\, will perform music by Tchaikovsky and Prokofiev that was inspired by Shakespeare’s Romeo and Juliet\, and Brahms’ stunning concerto for Violin and Cello\, with soloists Osman Ozturk and Catherine Kwak. \nAll proceeds from ticket sales will be donated to the Nelson Tasman Hospice. \nTickets $30 and $10 for under 18 years (booking fees may apply).
URL:https://www.nelsonhospice.org.nz/event/new-zealand-doctors-orchestra-fundraising-concert/
LOCATION:Nelson Centre of Musical Arts\, 48 Nile Street\, Nelson\, 7010\, New Zealand
CATEGORIES:Fundraising
ATTACH;FMTTYPE=image/png:https://www.nelsonhospice.org.nz/wp-content/uploads/sites/329/2024/05/NZDO-2024-1.png
END:VEVENT
END:VCALENDAR