BEGIN:VCALENDAR
VERSION:2.0
PRODID:-//Nelson Tasman Hospice - ECPv6.15.18//NONSGML v1.0//EN
CALSCALE:GREGORIAN
METHOD:PUBLISH
X-WR-CALNAME:Nelson Tasman Hospice
X-ORIGINAL-URL:https://www.nelsonhospice.org.nz
X-WR-CALDESC:Events for Nelson Tasman Hospice
REFRESH-INTERVAL;VALUE=DURATION:PT1H
X-Robots-Tag:noindex
X-PUBLISHED-TTL:PT1H
BEGIN:VTIMEZONE
TZID:Pacific/Auckland
BEGIN:STANDARD
TZOFFSETFROM:+1300
TZOFFSETTO:+1200
TZNAME:NZST
DTSTART:20230401T140000
END:STANDARD
BEGIN:DAYLIGHT
TZOFFSETFROM:+1200
TZOFFSETTO:+1300
TZNAME:NZDT
DTSTART:20230923T140000
END:DAYLIGHT
BEGIN:STANDARD
TZOFFSETFROM:+1300
TZOFFSETTO:+1200
TZNAME:NZST
DTSTART:20240406T140000
END:STANDARD
BEGIN:DAYLIGHT
TZOFFSETFROM:+1200
TZOFFSETTO:+1300
TZNAME:NZDT
DTSTART:20240928T140000
END:DAYLIGHT
BEGIN:STANDARD
TZOFFSETFROM:+1300
TZOFFSETTO:+1200
TZNAME:NZST
DTSTART:20250405T140000
END:STANDARD
BEGIN:DAYLIGHT
TZOFFSETFROM:+1200
TZOFFSETTO:+1300
TZNAME:NZDT
DTSTART:20250927T140000
END:DAYLIGHT
END:VTIMEZONE
BEGIN:VEVENT
DTSTART;VALUE=DATE:20240501
DTEND;VALUE=DATE:20240601
DTSTAMP:20260421T154123
CREATED:20240305T201641Z
LAST-MODIFIED:20240415T205052Z
UID:10000235-1714521600-1717199999@www.nelsonhospice.org.nz
SUMMARY:NBS Hands up for Hospice 2024
DESCRIPTION:Hospice is a free service for the people of Nelson Tasman\, but it comes at a cost. Play your part in helping raise much-needed funds for Nelson Tasman Hospice this May. \n\n\n\n\nNBS Hands Up For Hospice encourages the Nelson Tasman community to organise their own fundraising events\, big or small\, or to make a donation to support essential palliative care services in our community. \nYou can get involved in a variety of ways: \n\nHigh Teas for Hospice – Get together\, have fun & raise funds for Hospice Services. Acknowledge and celebrate someone you love.\nHost a High Tea for/with your friends\, family\, co-workers. Raise funds by charging a per head fee and/or running a raffle. You could have a guest speaker or arrange some goodie bags. You could choose a theme or colour\, make it a pot-luck or even a virtual event\, make it intimate or hire out the community hall! – how you do it is up to you!\nHeave for Hospice – A friendly competition between teams from local businesses\, sports groups & organisations. Engage your team\, showcase your brand\, acknowledge and celebrate someone you love. Heave for Hospice is a friendly competition (in both the physical heave and in fundraising!). It offers an opportunity to engage your team\, showcase your brand and celebrate a team or a team members family who has been supported by Nelson Tasman Hospice. However you choose to fundraise is up to you. It’s all in the name of a friendly bit of competition between your competitors fundraising for hospice. Encourage those businesses\, customers and suppliers that you work with to get behind your team!\nCreate your own event –Our compassionate community raise money for our service at all kinds of events throughout the year. From online craft auctions to putting up Halloween decorations\, to running a marathon\, hundreds of dollars has been raised for specialist palliative care in the Nelson Tasman Region from people using their unique talents\, creativity and donating their time and energy into making something wonderful from them. Do you have an idea that could help you put your Hands Up for Hospice this May?\nSales Fundraising- Stand out from the crowd plus give back – it’s a win-win! You can donate a portion of your sales to Nelson Tasman Hospice – a company or business of any size can make a difference! It could be 50 cents per coffee to $1000 if someone signs up to buy a new car or house or charge a premium letting people know that the donation is for Nelson Tasman Hospice. You might even choose to have a special flavour or product for the month of May dedicated to hospice. Every donation counts! There are so many ways to show your support and help increase sales mid-winter.\n\nContact the Supporter Engagement Team to find out more at fundraising@nelsonhospice.org.nz
URL:https://www.nelsonhospice.org.nz/event/nbs-hands-up-for-hospice-2024/
ATTACH;FMTTYPE=image/png:https://www.nelsonhospice.org.nz/wp-content/uploads/sites/329/2024/03/HUFH_Campaign-Logo-NBS-Lockup_vert.png
ORGANIZER;CN="Nelson Tasman Hospice Team":MAILTO:fundraising@nelsonhospice.org.nz
END:VEVENT
BEGIN:VEVENT
DTSTART;TZID=Pacific/Auckland:20240529T180000
DTEND;TZID=Pacific/Auckland:20240529T180000
DTSTAMP:20260421T154123
CREATED:20240508T043038Z
LAST-MODIFIED:20240508T043038Z
UID:10000987-1717005600-1717005600@www.nelsonhospice.org.nz
SUMMARY:How to think like a spy!
DESCRIPTION:An Intimate and exclusive evening with Former Secret Agent Stew Darling. \n$5 from every book sold at this event will be donated to Nelson Tasman Hospice. \nMay 29th\, 6pm at Greenmeadows \nFree entry\, register here: How to think like a spy – Greenmeadows (scoreapp.com) \n 
URL:https://www.nelsonhospice.org.nz/event/how-to-think-like-a-spy/
LOCATION:Greenmeadows\, 491 Main Rd Stoke
CATEGORIES:Fundraising
ATTACH;FMTTYPE=image/png:https://www.nelsonhospice.org.nz/wp-content/uploads/sites/329/2024/05/Spy-social.png
END:VEVENT
END:VCALENDAR