BEGIN:VCALENDAR
VERSION:2.0
PRODID:-//Nelson Tasman Hospice - ECPv6.15.20//NONSGML v1.0//EN
CALSCALE:GREGORIAN
METHOD:PUBLISH
X-WR-CALNAME:Nelson Tasman Hospice
X-ORIGINAL-URL:https://www.nelsonhospice.org.nz
X-WR-CALDESC:Events for Nelson Tasman Hospice
REFRESH-INTERVAL;VALUE=DURATION:PT1H
X-Robots-Tag:noindex
X-PUBLISHED-TTL:PT1H
BEGIN:VTIMEZONE
TZID:Pacific/Auckland
BEGIN:STANDARD
TZOFFSETFROM:+1300
TZOFFSETTO:+1200
TZNAME:NZST
DTSTART:20230401T140000
END:STANDARD
BEGIN:DAYLIGHT
TZOFFSETFROM:+1200
TZOFFSETTO:+1300
TZNAME:NZDT
DTSTART:20230923T140000
END:DAYLIGHT
BEGIN:STANDARD
TZOFFSETFROM:+1300
TZOFFSETTO:+1200
TZNAME:NZST
DTSTART:20240406T140000
END:STANDARD
BEGIN:DAYLIGHT
TZOFFSETFROM:+1200
TZOFFSETTO:+1300
TZNAME:NZDT
DTSTART:20240928T140000
END:DAYLIGHT
BEGIN:STANDARD
TZOFFSETFROM:+1300
TZOFFSETTO:+1200
TZNAME:NZST
DTSTART:20250405T140000
END:STANDARD
BEGIN:DAYLIGHT
TZOFFSETFROM:+1200
TZOFFSETTO:+1300
TZNAME:NZDT
DTSTART:20250927T140000
END:DAYLIGHT
END:VTIMEZONE
BEGIN:VEVENT
DTSTART;TZID=Pacific/Auckland:20240226T130000
DTEND;TZID=Pacific/Auckland:20240226T143000
DTSTAMP:20260422T120447
CREATED:20240130T031948Z
LAST-MODIFIED:20240130T032551Z
UID:10000232-1708952400-1708957800@www.nelsonhospice.org.nz
SUMMARY:Bereavement Group
DESCRIPTION:We have a new bereavement group starting Monday the 19th of February 2024 1-2:30pm.\n\n\n\n\nThe group provides a safe\, supportive environment for bereaved people to share their experiences of loss and grief with other bereaved people. It can help remove the feeling of isolation and “aloneness” that bereaved people often feel.\n\n\n\n\nFacilitated by our Bereavement Support Co-ordinator Sharon Beuke\, the group is open to everyone in the community\, not just those that have had hospice contact and there is no cost to join the group. Contact Sharon on 027 2622 599 if you are interested.
URL:https://www.nelsonhospice.org.nz/event/bereavement-group/2024-02-26/
END:VEVENT
END:VCALENDAR