BEGIN:VCALENDAR
VERSION:2.0
PRODID:-//Nelson Tasman Hospice - ECPv6.15.18//NONSGML v1.0//EN
CALSCALE:GREGORIAN
METHOD:PUBLISH
X-WR-CALNAME:Nelson Tasman Hospice
X-ORIGINAL-URL:https://www.nelsonhospice.org.nz
X-WR-CALDESC:Events for Nelson Tasman Hospice
REFRESH-INTERVAL;VALUE=DURATION:PT1H
X-Robots-Tag:noindex
X-PUBLISHED-TTL:PT1H
BEGIN:VTIMEZONE
TZID:Pacific/Auckland
BEGIN:STANDARD
TZOFFSETFROM:+1300
TZOFFSETTO:+1200
TZNAME:NZST
DTSTART:20230401T140000
END:STANDARD
BEGIN:DAYLIGHT
TZOFFSETFROM:+1200
TZOFFSETTO:+1300
TZNAME:NZDT
DTSTART:20230923T140000
END:DAYLIGHT
BEGIN:STANDARD
TZOFFSETFROM:+1300
TZOFFSETTO:+1200
TZNAME:NZST
DTSTART:20240406T140000
END:STANDARD
BEGIN:DAYLIGHT
TZOFFSETFROM:+1200
TZOFFSETTO:+1300
TZNAME:NZDT
DTSTART:20240928T140000
END:DAYLIGHT
BEGIN:STANDARD
TZOFFSETFROM:+1300
TZOFFSETTO:+1200
TZNAME:NZST
DTSTART:20250405T140000
END:STANDARD
BEGIN:DAYLIGHT
TZOFFSETFROM:+1200
TZOFFSETTO:+1300
TZNAME:NZDT
DTSTART:20250927T140000
END:DAYLIGHT
END:VTIMEZONE
BEGIN:VEVENT
DTSTART;TZID=Pacific/Auckland:20240201T173000
DTEND;TZID=Pacific/Auckland:20240201T183000
DTSTAMP:20260422T060027
CREATED:20231205T020804Z
LAST-MODIFIED:20231205T020804Z
UID:10000224-1706808600-1706812200@www.nelsonhospice.org.nz
SUMMARY:Event Volunteering Information Session
DESCRIPTION:Have you always thought about volunteering but can’t dedicate a set number of hours to it every week? Are you looking for ways to volunteer at times that suit you\, outside of regular business hours? Nelson Tasman Hospice support & run a variety of different fundraising events throughout the year to raise crucial funds for our service. We are looking to build on our dedicated team of volunteers and establish a pool of casual volunteers with more of a focus on fundraising and event support. Please join us at 5:30pm\, Thursday the 1st of February 2024 at Nelson Tasman Hospice\, 331 Suffolk Road\, Stoke to learn more about all the varied and exciting roles we have available. If this sounds like something you might be interested in\, we’d love to see you!
URL:https://www.nelsonhospice.org.nz/event/event-volunteering-information-session/
LOCATION:Nelson Tasman Hospice\, 331 Suffolk Road\, Nelson\, 7011\, New Zealand
CATEGORIES:Fundraising
ATTACH;FMTTYPE=image/jpeg:https://www.nelsonhospice.org.nz/wp-content/uploads/sites/329/2023/12/Group-picture-no-hats.jpg
ORGANIZER;CN="Nelson Tasman Hospice Team":MAILTO:fundraising@nelsonhospice.org.nz
END:VEVENT
END:VCALENDAR