BEGIN:VCALENDAR
VERSION:2.0
PRODID:-//Nelson Tasman Hospice - ECPv6.15.18//NONSGML v1.0//EN
CALSCALE:GREGORIAN
METHOD:PUBLISH
X-WR-CALNAME:Nelson Tasman Hospice
X-ORIGINAL-URL:https://www.nelsonhospice.org.nz
X-WR-CALDESC:Events for Nelson Tasman Hospice
REFRESH-INTERVAL;VALUE=DURATION:PT1H
X-Robots-Tag:noindex
X-PUBLISHED-TTL:PT1H
BEGIN:VTIMEZONE
TZID:Pacific/Auckland
BEGIN:STANDARD
TZOFFSETFROM:+1300
TZOFFSETTO:+1200
TZNAME:NZST
DTSTART:20220402T140000
END:STANDARD
BEGIN:DAYLIGHT
TZOFFSETFROM:+1200
TZOFFSETTO:+1300
TZNAME:NZDT
DTSTART:20220924T140000
END:DAYLIGHT
BEGIN:STANDARD
TZOFFSETFROM:+1300
TZOFFSETTO:+1200
TZNAME:NZST
DTSTART:20230401T140000
END:STANDARD
BEGIN:DAYLIGHT
TZOFFSETFROM:+1200
TZOFFSETTO:+1300
TZNAME:NZDT
DTSTART:20230923T140000
END:DAYLIGHT
BEGIN:STANDARD
TZOFFSETFROM:+1300
TZOFFSETTO:+1200
TZNAME:NZST
DTSTART:20240406T140000
END:STANDARD
BEGIN:DAYLIGHT
TZOFFSETFROM:+1200
TZOFFSETTO:+1300
TZNAME:NZDT
DTSTART:20240928T140000
END:DAYLIGHT
END:VTIMEZONE
BEGIN:VEVENT
DTSTART;TZID=Pacific/Auckland:20231116T080000
DTEND;TZID=Pacific/Auckland:20231224T170000
DTSTAMP:20260421T223933
CREATED:20231116T205230Z
LAST-MODIFIED:20231122T002510Z
UID:10000222-1700121600-1703437200@www.nelsonhospice.org.nz
SUMMARY:Trees of Remembrance
DESCRIPTION:As the holiday season approaches\, the Nelson Tasman region once again welcomes the heartfelt return of Trees of Remembrance. These trees symbolise more than just festive decorations; they offer an opportunity to support Nelson Tasman Hospice and remember those who can’t be with us during Christmas. \nTrees of Remembrance will be proudly on display at Farmers stores in Nelson and Richmond. Although this is part of a national hospice fundraising campaign for Farmers\, all funds raised locally\, stay locally. \nIn 2023 for the very first time\, Trees of Remembrance will also be lighting up Nelson Airport. The trees at the airport are sponsored and decorated by local businesses who have actively chosen to support Nelson Tasman Hospice this Christmas. \nTrees will be in the following locations: \n16th November – 24th December at:\n– Nelson Farmers\n– Richmond Farmers \n1st December – 11th January at:\n– Nelson Airport \n1st – 8th December at:\n– Nelson New World\n– Richmond Mall\n– Stoke Countdown \n2nd December at:\n– Nelson Market \n11 – 14th December at:\n– Motueka House of Travel \n8th December at:\n– Westpac Motueka
URL:https://www.nelsonhospice.org.nz/event/trees-of-remembrance/
ATTACH;FMTTYPE=image/png:https://www.nelsonhospice.org.nz/wp-content/uploads/sites/329/2023/11/1.png
ORGANIZER;CN="Nelson Tasman Hospice Team":MAILTO:fundraising@nelsonhospice.org.nz
END:VEVENT
END:VCALENDAR